BEGIN:VCALENDAR
VERSION:2.0
PRODID:-//SoundsGood - ECPv4.9.4//NONSGML v1.0//EN
CALSCALE:GREGORIAN
METHOD:PUBLISH
X-WR-CALNAME:SoundsGood
X-ORIGINAL-URL:https://soundsgood.guide
X-WR-CALDESC:Events for SoundsGood
BEGIN:VTIMEZONE
TZID:"Pacific/Auckland"
BEGIN:STANDARD
TZOFFSETFROM:+1300
TZOFFSETTO:+1200
TZNAME:NZST
DTSTART:20240406T140000
END:STANDARD
BEGIN:DAYLIGHT
TZOFFSETFROM:+1200
TZOFFSETTO:+1300
TZNAME:NZDT
DTSTART:20240928T140000
END:DAYLIGHT
END:VTIMEZONE
BEGIN:VEVENT
DTSTART;TZID="Pacific/Auckland":20241116T193000
DTEND;TZID="Pacific/Auckland":20241116T233000
DTSTAMP:20260421T123026
CREATED:20241006T221745Z
LAST-MODIFIED:20241006T221745Z
UID:23825-1731785400-1731799800@soundsgood.guide
SUMMARY:L.A.Mitchell - Meaningful Work - Solo Tour
DESCRIPTION:You may know her from Fly My Pretties\, You may know her from the Recent Bill Withers Social Club shows. Come and hear the bold and stunning voice of L.A.Mitchell – in an intimate and fun solo piano and voice. You can expect to hear songs from her travels in music\, working with N.Z Heavy Weights Sir Dave Dobbyn\, Tim Finn\, Bic Runga\, Dallas Tamaira & Troy Kingi. And songs from some of her favourites – Carol King\, Aretha Franklin\, Nina Simone\, Elton John & Adele. \nA charming night out for Couples\, or gather a group of friends for a georgeous night of song. \nWhat People are saying about L.A.Mitchell \nI left the gig wanting to go home and play her albums\, and I will definitely be seeing her live again. — Amanda Mills\, NZ Musician Magazine. \n“Wowee\, what a night! Your voice and control were phenomenal!” \n“”Holy crap you were AMAZING on Saturday night. I could’ve listened to just you for hours.” \n
URL:https://soundsgood.guide/gig/l-a-mitchell-meaningful-work-solo-tour/
LOCATION:The Piano\, 56 Armagh St\, Christchurch Central\, Christchurch\, 8011\, New Zealand
CATEGORIES:Gig
ATTACH;FMTTYPE=image/jpeg:https://soundsgood.guide/wp-content/uploads/2024/10/92735-383643.jpg
END:VEVENT
END:VCALENDAR