BEGIN:VCALENDAR
VERSION:2.0
PRODID:-//SoundsGood - ECPv4.9.4//NONSGML v1.0//EN
CALSCALE:GREGORIAN
METHOD:PUBLISH
X-WR-CALNAME:SoundsGood
X-ORIGINAL-URL:https://soundsgood.guide
X-WR-CALDESC:Events for SoundsGood
BEGIN:VTIMEZONE
TZID:"Pacific/Auckland"
BEGIN:STANDARD
TZOFFSETFROM:+1300
TZOFFSETTO:+1200
TZNAME:NZST
DTSTART:20240406T140000
END:STANDARD
BEGIN:DAYLIGHT
TZOFFSETFROM:+1200
TZOFFSETTO:+1300
TZNAME:NZDT
DTSTART:20240928T140000
END:DAYLIGHT
END:VTIMEZONE
BEGIN:VEVENT
DTSTART;TZID="Pacific/Auckland":20241108T210000
DTEND;TZID="Pacific/Auckland":20241108T233000
DTSTAMP:20260422T060147
CREATED:20240908T220250Z
LAST-MODIFIED:20240908T220250Z
UID:23557-1731099600-1731108600@soundsgood.guide
SUMMARY:Ladi6 - Alofa: The Heartbeat Tour
DESCRIPTION:Auckland\, NZ – November 7th\, 2024 – Established Kiwi icon Ladi6 is set to re-establish herself in the music scene by releasing her highly anticipated single\, Alofa. The track will be available on all major streaming platforms starting on her birthday on Nov 7th\, 2024 with her nationwide tour starting the next day in her hometown of Otautahi\, Christchurch alongside her long-time collaborators and producers of Alofa\, Brent ‘Parks’ Park-Tamati and Brandon ‘Bharu’ Haru. \nAlofa is a vibrant blend of Kraftwerk-esque breakbeat synth electronica\, dreamy arpeggio synths\, and soulful vibrations. It encapsulates the essence of self-love through the tragedy of relationship breakups. Uplifting despite its melancholy lyrics\, with its infectious melody and rhythmic beats\, the single is poised to become a staple on playlists worldwide. Fans can participate for a chance to win exclusive merchandise and tickets to one of her shows. \nLadi6 is well known for her authentic and innovative approach to music. She draws inspiration from her own experiences and Moana heritage. Her unique sound and heartfelt lyrics resonate with listeners\, offering a refreshing perspective in the soul/pop/electronica genre. \nI wanted to create a song that expressed the devastation of relationship break ups while simultaneously creating an atmosphere of musical resonance that expresses a kind of joy and peace in the transition of knowing you did the best you could and that’s all you can hope for\, and that is enough…you tried. \nLadi6 is an iconic Aotearoa artist whose music reflects her penchant for emotional authenticity and visionary musical trend-bending. With a hip hop history as founding member of Aotearoa’s first all female hip hop crew\, Sheelahroc\, a passion for storytelling and a commitment to self-exploration\, Ladi6 makes a unique mark in the music industry\, gaining a loyal following and critical acclaim. \n
URL:https://soundsgood.guide/gig/ladi6-alofa-the-heartbeat-tour/
LOCATION:The Church\, 124 Worchester Street\, Christchurch\, 8011\, New Zealand
CATEGORIES:Gig,Tour
ATTACH;FMTTYPE=image/png:https://soundsgood.guide/wp-content/uploads/2024/09/92174-769940.png
END:VEVENT
END:VCALENDAR