BEGIN:VCALENDAR
VERSION:2.0
PRODID:-//SoundsGood - ECPv4.9.4//NONSGML v1.0//EN
CALSCALE:GREGORIAN
METHOD:PUBLISH
X-WR-CALNAME:SoundsGood
X-ORIGINAL-URL:https://soundsgood.guide
X-WR-CALDESC:Events for SoundsGood
BEGIN:VTIMEZONE
TZID:"Pacific/Auckland"
BEGIN:STANDARD
TZOFFSETFROM:+1300
TZOFFSETTO:+1200
TZNAME:NZST
DTSTART:20240406T140000
END:STANDARD
BEGIN:DAYLIGHT
TZOFFSETFROM:+1200
TZOFFSETTO:+1300
TZNAME:NZDT
DTSTART:20240928T140000
END:DAYLIGHT
END:VTIMEZONE
BEGIN:VEVENT
DTSTART;TZID="Pacific/Auckland":20240904T190000
DTEND;TZID="Pacific/Auckland":20240904T190000
DTSTAMP:20260422T093746
CREATED:20240724T033330Z
LAST-MODIFIED:20240724T033330Z
UID:23210-1725476400-1725476400@soundsgood.guide
SUMMARY:Lee Scott & Black Josh
DESCRIPTION:Blah Records heavy hitters Lee Scott and Black Josh are without a doubt two of the most formidable lyricists in the underground UK hip hop scene. \nWith an undeniable cult following that spans across the globe\, this pair are setting out to give the South Pacific a taste of the dark and witty madness they are known so well for bringing. \nLee Scott AKA Leezus reps a uniquely intelligent style of “Gonzo Lyricism” sharp\, hard hitting\, fuckin hilarious. \nCo founder of the legendary BLAH records\, Lee has achieved absolute don status with a long and impressive history of contributions to the UK rap world with over fifty releases across his discography. \nHailed as a “Manchester cult hero” and a “lyrical maverick”\, Black Josh has been part of some HUGE rap groups: Cult of the Damned\, Levelz and The Mouse Outfit to name a few. \nWith a solid mix of high energy and low pace head nod tunes\, Josh is easily one of the best at what he does. \nJoining them will be Pang Productions staples Joe Snow and Must Volkoff as well as local support in every city. \nTickets for these shows are likely to disappear quick so don’t sleep. \n7pm | Tickets from $48.90 \n
URL:https://soundsgood.guide/gig/lee-scott-black-josh/
LOCATION:Wunderbar\, 14 Canterbury Street\, Lyttelton\, 8082\, New Zealand
CATEGORIES:Music
ATTACH;FMTTYPE=image/jpeg:https://soundsgood.guide/wp-content/uploads/2024/07/Lee-Scott-Black-Josh-LR.jpg
ORGANIZER;CN="Wunderbar":MAILTO:hi@wunderbar.co.nz
END:VEVENT
END:VCALENDAR