BEGIN:VCALENDAR
VERSION:2.0
PRODID:-//SoundsGood - ECPv4.9.4//NONSGML v1.0//EN
CALSCALE:GREGORIAN
METHOD:PUBLISH
X-WR-CALNAME:SoundsGood
X-ORIGINAL-URL:https://soundsgood.guide
X-WR-CALDESC:Events for SoundsGood
BEGIN:VTIMEZONE
TZID:"Pacific/Auckland"
BEGIN:STANDARD
TZOFFSETFROM:+1300
TZOFFSETTO:+1200
TZNAME:NZST
DTSTART:20250405T140000
END:STANDARD
BEGIN:DAYLIGHT
TZOFFSETFROM:+1200
TZOFFSETTO:+1300
TZNAME:NZDT
DTSTART:20250927T140000
END:DAYLIGHT
END:VTIMEZONE
BEGIN:VEVENT
DTSTART;TZID="Pacific/Auckland":20250426T203000
DTEND;TZID="Pacific/Auckland":20250426T233000
DTSTAMP:20260420T014416
CREATED:20250331T020912Z
LAST-MODIFIED:20250331T020912Z
UID:25209-1745699400-1745710200@soundsgood.guide
SUMMARY:Letters To Lions
DESCRIPTION:Letters to Lions are back from their seven-year hiatus with the aptly named EP\, Seven Years. Celebrate their eagerly awaited return as the boys embark on their DEBUT headline tour across New Zealand. \n24 April 2025 – Whammy Bar\, Auckland\n25 April 2025 – San Fran\, Wellington\n26 April – Wunderbar\, Lyttelton\n27 April – Crown Hotel\, Dunedin \nTickets: https://tickets.nztix.co.nz/outlet/event/0c1edc51-5374-4a6a-baa8-9ba3c889f00f \n
URL:https://soundsgood.guide/gig/letters-to-lions/
LOCATION:Wunderbar Lyttelton\, 19 London St\, Lyttelton\, 8082\, NZ
CATEGORIES:Gig,Tour
ATTACH;FMTTYPE=image/png:https://soundsgood.guide/wp-content/uploads/2025/03/95600-158567.png
END:VEVENT
END:VCALENDAR