BEGIN:VCALENDAR
VERSION:2.0
PRODID:-//SoundsGood - ECPv4.9.4//NONSGML v1.0//EN
CALSCALE:GREGORIAN
METHOD:PUBLISH
X-WR-CALNAME:SoundsGood
X-ORIGINAL-URL:https://soundsgood.guide
X-WR-CALDESC:Events for SoundsGood
BEGIN:VTIMEZONE
TZID:"Pacific/Auckland"
BEGIN:STANDARD
TZOFFSETFROM:+1300
TZOFFSETTO:+1200
TZNAME:NZST
DTSTART:20250405T140000
END:STANDARD
BEGIN:DAYLIGHT
TZOFFSETFROM:+1200
TZOFFSETTO:+1300
TZNAME:NZDT
DTSTART:20250927T140000
END:DAYLIGHT
END:VTIMEZONE
BEGIN:VEVENT
DTSTART;TZID="Pacific/Auckland":20250215T160000
DTEND;TZID="Pacific/Auckland":20250216T000000
DTSTAMP:20260420T092537
CREATED:20250205T025417Z
LAST-MODIFIED:20250205T025417Z
UID:24721-1739635200-1739664000@soundsgood.guide
SUMMARY:Luv Dancin: A Valentine's House & Disco Night
DESCRIPTION:Get ready to fall in love with the rhythm at Luv Dancin\, the ultimate Valentine’s celebration for those who want to dance the night away!\nJoin us for mix of House & Disco beats by rotating DJs:Jason KyleLuis SurcosMat HoodsJohn Ussher\nWhether you’re vibing solo or sharing the night with someone special\, there’s no better way to spread the love. Bring your best moves and come show us how you Luv Dancin!\nIn true Evil Genius style we are kicking things off early at 4pm for one of our much loved day into night parties.\nFree Entry from 4PMKoha Entry from 8PM\n
URL:https://soundsgood.guide/gig/luv-dancin-a-valentines-house-disco-night/
LOCATION:Evil Genius\, 1091 Ferry Road\, Ferrymead\, Christchurch\, 8023\, New Zealand
CATEGORIES:Dance
ATTACH;FMTTYPE=image/png:https://soundsgood.guide/wp-content/uploads/2025/02/Instagram-45-post.png
END:VEVENT
END:VCALENDAR