BEGIN:VCALENDAR
VERSION:2.0
PRODID:-//SoundsGood - ECPv4.9.4//NONSGML v1.0//EN
CALSCALE:GREGORIAN
METHOD:PUBLISH
X-WR-CALNAME:SoundsGood
X-ORIGINAL-URL:https://soundsgood.guide
X-WR-CALDESC:Events for SoundsGood
BEGIN:VTIMEZONE
TZID:"Pacific/Auckland"
BEGIN:STANDARD
TZOFFSETFROM:+1300
TZOFFSETTO:+1200
TZNAME:NZST
DTSTART:20240406T140000
END:STANDARD
BEGIN:DAYLIGHT
TZOFFSETFROM:+1200
TZOFFSETTO:+1300
TZNAME:NZDT
DTSTART:20240928T140000
END:DAYLIGHT
END:VTIMEZONE
BEGIN:VEVENT
DTSTART;TZID="Pacific/Auckland":20240927T200000
DTEND;TZID="Pacific/Auckland":20240928T010000
DTSTAMP:20260423T151348
CREATED:20240901T212907Z
LAST-MODIFIED:20240901T212907Z
UID:23509-1727467200-1727485200@soundsgood.guide
SUMMARY:LuvHub: Ōtautahi Drift
DESCRIPTION:\n\n\n\n\nLuvHub presents: Ōtautahi Drift \n  \nBring ya helmets and harnesses \n  \nLuvHub is back drifting onto the courtyard!! 👷‍♂️👷‍♀️ \n  \nWe bringing pure chaotic vibes\, all things 150bpm and above is about to get spun in ya face with sound provided by our fav homies over @ 103 🚨🚨 \n  \nDa brothas and sistas r all jamming for a cheeky hour and a half so we 100 percent taking ya on dat journey 🥹💨  \n  \nWe’ve even locked in rising Auckland star Vitamin Cos for her homecoming debut in front of the CDJs 👉👈 \n  \nYa know the rest of the lineup but gawd damn u haven’t seen em like this before! \n  \nJay Luv is opening up the floor for the first hour and a half! Bringing pure silliness!! Get ready as he wheels back\, cuts back\, and sinks back 🤓 \n  \nINFORDIN b2b Bahns is no doubt ready to have u shout!! They’re gonna rip out all the unreleased having u Shazam jammin to the earth shattering bass as the old trusty try again pops up on ya phone 📞 \n  \nI’m telling ya get those tickets this is about to be pure money!!!See ya Luvvers soon <3<3 \n\n\n\n\nTerms & Conditions\n\n\n\n\n\n\n\n\n\n\n
URL:https://soundsgood.guide/gig/luvhub-otautahi-drift/
LOCATION:FLUX\, 270 St Asaph Street\, Christchurch\, New Zealand
CATEGORIES:DJ Night
ATTACH;FMTTYPE=image/png:https://soundsgood.guide/wp-content/uploads/2024/09/Screenshot-2024-09-02-092849.png
END:VEVENT
END:VCALENDAR