BEGIN:VCALENDAR
VERSION:2.0
PRODID:-//SoundsGood - ECPv4.9.4//NONSGML v1.0//EN
CALSCALE:GREGORIAN
METHOD:PUBLISH
X-WR-CALNAME:SoundsGood
X-ORIGINAL-URL:https://soundsgood.guide
X-WR-CALDESC:Events for SoundsGood
BEGIN:VTIMEZONE
TZID:"Pacific/Auckland"
BEGIN:STANDARD
TZOFFSETFROM:+1300
TZOFFSETTO:+1200
TZNAME:NZST
DTSTART:20250405T140000
END:STANDARD
BEGIN:DAYLIGHT
TZOFFSETFROM:+1200
TZOFFSETTO:+1300
TZNAME:NZDT
DTSTART:20250927T140000
END:DAYLIGHT
END:VTIMEZONE
BEGIN:VEVENT
DTSTART;TZID="Pacific/Auckland":20250411T200000
DTEND;TZID="Pacific/Auckland":20250411T230000
DTSTAMP:20260424T181132
CREATED:20250317T015736Z
LAST-MODIFIED:20250317T015736Z
UID:25138-1744401600-1744412400@soundsgood.guide
SUMMARY:MĀ - Blame It On The Weather Tour
DESCRIPTION:Karanga mai Te Waipounamu! The Blame It On The Weather Tour is making its way to Lyttelton\, Christchurch! Join MĀ and The Fly Hunnies at Lyttelton Coffee Co. on Friday\, 11th April for a night you won’t forget. With Kommi opening the show\, it’s sure to be an epic night. Doors open at 7:30—be there! \n
URL:https://soundsgood.guide/gig/ma-blame-it-on-the-weather-tour/
LOCATION:lyttelton coffee company\, 29 London Street\, Lyttelton\, chch\, New Zealand
CATEGORIES:Gig
ATTACH;FMTTYPE=image/jpeg:https://soundsgood.guide/wp-content/uploads/2025/03/95331-946270.jpg
END:VEVENT
END:VCALENDAR