BEGIN:VCALENDAR
VERSION:2.0
PRODID:-//SoundsGood - ECPv4.9.4//NONSGML v1.0//EN
CALSCALE:GREGORIAN
METHOD:PUBLISH
X-WR-CALNAME:SoundsGood
X-ORIGINAL-URL:https://soundsgood.guide
X-WR-CALDESC:Events for SoundsGood
BEGIN:VTIMEZONE
TZID:"Pacific/Auckland"
BEGIN:STANDARD
TZOFFSETFROM:+1300
TZOFFSETTO:+1200
TZNAME:NZST
DTSTART:20240406T140000
END:STANDARD
BEGIN:DAYLIGHT
TZOFFSETFROM:+1200
TZOFFSETTO:+1300
TZNAME:NZDT
DTSTART:20240928T140000
END:DAYLIGHT
END:VTIMEZONE
BEGIN:VEVENT
DTSTART;TZID="Pacific/Auckland":20241129T200000
DTEND;TZID="Pacific/Auckland":20241129T233000
DTSTAMP:20260421T223821
CREATED:20240701T000841Z
LAST-MODIFIED:20240701T000841Z
UID:23047-1732910400-1732923000@soundsgood.guide
SUMMARY:MAIDEN NEW ZEALAND with 666: A TRIBUTE TO THE BEAST
DESCRIPTION:\n666: A TRIBUTE TO THE BEAST \n\n\nSCREAM FOR ME CHRISTCHURCH!!! \n666: A Tribute To The Beast are back for 2024 with their new\, bigger\, better\, BEAST of a show – MAIDEN NEW ZEALAND! \nHOLY SMOKE! Friday November 29th at A Rolling Stone\, Aotearoa’s premiere Iron Maiden tribute are bringing their longest\, most EPIC set to date! More classic and deep cut Maiden tunes\, more visuals\, more stage effects\, and a very special guest!!! \nYou’ve seen Maiden England\, you’ve seen Maiden Japan\, well get ready for DEJA VU Christchurch\, because it’s time for MAIDEN NEW ZEALAND! \nAfter two sold out shows\, the BLOOD BROTHERS are back with over two and a half hours of arena level energy condensed into one of Otautahi’s most iconic local venues! If you thought the last two shows were a spectacle\, this one’s gonna leave you LOSFER WORDS!!! \nIt’s just like a real Iron Maiden show\, if you ordered your Iron Maiden from Wish! \nFrom Beyond Digital\, The Apocalypse RDU 98.5fm\, Evil Streams and Mothman Lighting present… 666: A Tribute To The Beast – MAIDEN NEW ZEALAND. Friday November 29th at A Rolling Stone. \nVERY limited Earlybird tickets on sale now for just $20+BF\, so BE QUICK OR BE DEAD because once they’ve been snapped up standard presales are $30+BF. \n*Under 18s must be accompanied by a legal guardian. ROAR \nThis event is expected to sell out so there will most likely be NO DOOR SALES! So don’t REMEMBER TOMORROW\, get yours today!!! \n*yelling everything via text and awesome puns included in the ticket price. \n\n
URL:https://soundsgood.guide/gig/maiden-new-zealand-with-666-a-tribute-to-the-beast/
LOCATION:A Rolling Stone\, 579 Colombo Street\, Christchurch\, Canterbury\, 8011\, New Zealand
CATEGORIES:Gig
ATTACH;FMTTYPE=image/jpeg:https://soundsgood.guide/wp-content/uploads/2024/07/7262e3bca92160f50937b8efad3dc167.jpg
END:VEVENT
END:VCALENDAR