BEGIN:VCALENDAR
VERSION:2.0
PRODID:-//SoundsGood - ECPv4.9.4//NONSGML v1.0//EN
CALSCALE:GREGORIAN
METHOD:PUBLISH
X-WR-CALNAME:SoundsGood
X-ORIGINAL-URL:https://soundsgood.guide
X-WR-CALDESC:Events for SoundsGood
BEGIN:VTIMEZONE
TZID:"Pacific/Auckland"
BEGIN:STANDARD
TZOFFSETFROM:+1300
TZOFFSETTO:+1200
TZNAME:NZST
DTSTART:20240406T140000
END:STANDARD
BEGIN:DAYLIGHT
TZOFFSETFROM:+1200
TZOFFSETTO:+1300
TZNAME:NZDT
DTSTART:20240928T140000
END:DAYLIGHT
END:VTIMEZONE
BEGIN:VEVENT
DTSTART;TZID="Pacific/Auckland":20240726T200000
DTEND;TZID="Pacific/Auckland":20240726T233000
DTSTAMP:20260426T021759
CREATED:20240617T234035Z
LAST-MODIFIED:20240617T234035Z
UID:22898-1722024000-1722036600@soundsgood.guide
SUMMARY:Marsha - In Circles Album Release Tour
DESCRIPTION:Six years after their formation\, Ōtautahi post-punk band\, Marsha\, are releasing their debut album on the 7th of June 2024. In Circles is a collection of work that has been painstakingly put together since the recording process began in late 2021\, leveraging the careful ears of Jack Lanham and Kabyn Walley from Moonbase Record Collective. Marsha’s nine track album is a modern take on post-punk informed by their eclectic range of tastes and influences. \nIn Circles has three previously released singles\, Wide Eyed & Dumb\, Iris\, and title track\, In Circles. The fast-paced nature of these tracks are contrasted with slower and darker tracks such as Sirens and Rear View. \nTo celebrate In Circles\, Marsha are taking the album on a nationwide tour to Christchurch\, Dunedin\, Wellington\, and Auckland. \nFriday 26th of July – The Loons\, Christchurch\nSaturday 27th of July – The Crown Hotel\, Dunedin\nFriday 23rd of August – Moon\, Wellington\nSaturday 24th of August – Whammy!\, Auckland \n
URL:https://soundsgood.guide/gig/marsha-in-circles-album-release-tour/
LOCATION:LOONS\, 16 CANTERBURY ST\, CHRUSTCHURCH\, LYTTELTON\, 8082\, New Zealand
CATEGORIES:Gig,Tour
ATTACH;FMTTYPE=image/png:https://soundsgood.guide/wp-content/uploads/2024/06/90746-172512.png
END:VEVENT
END:VCALENDAR