BEGIN:VCALENDAR
VERSION:2.0
PRODID:-//SoundsGood - ECPv4.9.4//NONSGML v1.0//EN
CALSCALE:GREGORIAN
METHOD:PUBLISH
X-WR-CALNAME:SoundsGood
X-ORIGINAL-URL:https://soundsgood.guide
X-WR-CALDESC:Events for SoundsGood
BEGIN:VTIMEZONE
TZID:"Pacific/Auckland"
BEGIN:STANDARD
TZOFFSETFROM:+1300
TZOFFSETTO:+1200
TZNAME:NZST
DTSTART:20250405T140000
END:STANDARD
BEGIN:DAYLIGHT
TZOFFSETFROM:+1200
TZOFFSETTO:+1300
TZNAME:NZDT
DTSTART:20250927T140000
END:DAYLIGHT
END:VTIMEZONE
BEGIN:VEVENT
DTSTART;TZID="Pacific/Auckland":20250523T203000
DTEND;TZID="Pacific/Auckland":20250523T230000
DTSTAMP:20260420T015541
CREATED:20250422T014752Z
LAST-MODIFIED:20250422T014752Z
UID:25375-1748032200-1748041200@soundsgood.guide
SUMMARY:Martin Sagadin - Martin iz Zgornje Bele - Album Announcement Show
DESCRIPTION:Martin Sagadin’s debut solo album weaves together their Slovenian roots with Aotearoa’s rich folk music scene. Martin iz Zgornje Bele refers to the village Martin grew up in\, and the album transports the listener to a pastoral but deeply internal space\, casting a meditative and emotionally charged spell. \nAn album announcement show is to take place at Space Academy in Ōtautahi Christchurch\, as Martin’s first headlining show with support from Georgia Knight. \nThe album was produced by Brooke Singer (French for Rabbits) and features Ben Lemi (Trinity Roots\, Bret McKenzie) and Xanthe Rook (recitals) on the clarinet\, Liz Stokes (The Beths) on flugelhorn and Charlotte Forrester (Womb) on cello\, making it a completely unique sounding collection of songs. It was picked up by BaDaBing! Records in New York\, while Melted Ice Cream will release it in NZ and Australia. \nYou may already know Martin Sagadin from their work on some of the most beloved music videos to come out of Aotearoa\, including luminaries such as Aldous Harding\, Marlon Williams\, Nadia Reid\, The Bats\, Tiny Ruins and many more. \n
URL:https://soundsgood.guide/gig/martin-sagadin-martin-iz-zgornje-bele-album-announcement-show/
LOCATION:Space Academy\, 371 St Asaph St\, Christchurch\, 8011\, New Zealand
CATEGORIES:Gig
ATTACH;FMTTYPE=image/png:https://soundsgood.guide/wp-content/uploads/2025/04/95976-532436.png
END:VEVENT
END:VCALENDAR