BEGIN:VCALENDAR
VERSION:2.0
PRODID:-//SoundsGood - ECPv4.9.4//NONSGML v1.0//EN
CALSCALE:GREGORIAN
METHOD:PUBLISH
X-WR-CALNAME:SoundsGood
X-ORIGINAL-URL:https://soundsgood.guide
X-WR-CALDESC:Events for SoundsGood
BEGIN:VTIMEZONE
TZID:"Pacific/Auckland"
BEGIN:STANDARD
TZOFFSETFROM:+1300
TZOFFSETTO:+1200
TZNAME:NZST
DTSTART:20250405T140000
END:STANDARD
BEGIN:DAYLIGHT
TZOFFSETFROM:+1200
TZOFFSETTO:+1300
TZNAME:NZDT
DTSTART:20250927T140000
END:DAYLIGHT
END:VTIMEZONE
BEGIN:VEVENT
DTSTART;TZID="Pacific/Auckland":20250502T203000
DTEND;TZID="Pacific/Auckland":20250502T230000
DTSTAMP:20260420T220739
CREATED:20250410T040613Z
LAST-MODIFIED:20250410T040613Z
UID:25276-1746217800-1746226800@soundsgood.guide
SUMMARY:Matt Slaughter - She's From Hamilton Single Release Party
DESCRIPTION:Matt Slaughter and his newly-formed band of friends are taking over Darkroom to celebrate the release of their new single She’s From Hamilton on May 2. \nThey’ll be joined by two of Ōtautahi’s best bands HOIHOI and Sentient Mud for a gig loud enough to be heard on the banks of the mighty Waikato River. \nDoors from 8pm\nBands from 8.30pm \n
URL:https://soundsgood.guide/gig/matt-slaughter-shes-from-hamilton-single-release-party/
LOCATION:darkroom\, 336 St. Asaph St\, Christchurch\, 8011\, New Zealand
CATEGORIES:Gig
ATTACH;FMTTYPE=image/png:https://soundsgood.guide/wp-content/uploads/2025/04/95669-686749.png
END:VEVENT
END:VCALENDAR