BEGIN:VCALENDAR
VERSION:2.0
PRODID:-//SoundsGood - ECPv4.9.4//NONSGML v1.0//EN
CALSCALE:GREGORIAN
METHOD:PUBLISH
X-WR-CALNAME:SoundsGood
X-ORIGINAL-URL:https://soundsgood.guide
X-WR-CALDESC:Events for SoundsGood
BEGIN:VTIMEZONE
TZID:"Pacific/Auckland"
BEGIN:STANDARD
TZOFFSETFROM:+1300
TZOFFSETTO:+1200
TZNAME:NZST
DTSTART:20240406T140000
END:STANDARD
BEGIN:DAYLIGHT
TZOFFSETFROM:+1200
TZOFFSETTO:+1300
TZNAME:NZDT
DTSTART:20240928T140000
END:DAYLIGHT
END:VTIMEZONE
BEGIN:VEVENT
DTSTART;TZID="Pacific/Auckland":20241214T203000
DTEND;TZID="Pacific/Auckland":20241214T233000
DTSTAMP:20260421T092324
CREATED:20241124T200834Z
LAST-MODIFIED:20241124T200834Z
UID:24226-1734208200-1734219000@soundsgood.guide
SUMMARY:MEG RYAN FILM CLUB PERFORM THE SONGS OF J. 'CHRISTMAS' PHILLIPS
DESCRIPTION:\n\n\nJ. Christmas; conjuring hopes\, dreams and the delicate sashay of satin against skin\, an international touring festive song maven is delighted to extend his tour of Aotearoa to two thrilling evenings across the motu. \nThese are the headiest of days\, days in which it feels extraordinary to bear breath. \nTo behold the sweet nectar of song\, in the form of his latest album Spring Into… J. Christmas Phillips\, performed live by one of Aotearoa’s leading bands\, is an almost unbearably dreamlike state. \nIt is an honour to bring you this creative expression\, one that is fêted to win J.\, finally\, his Silver Scroll in the festive performance category. \nThis is no dream and it will occur at two exquisite venues over the festive season\, like opening the advent calendar and finding diamonds instead of vaguely disconsolate plastic tasting chocolate. \nLast touring during the uncertain days of early 2014\, this will be J. Christmas’s first New Zealand tour since the release of his second studio album ‘All Your Christmasses at Once’. \nWidely acclaimed as one of finest festive albums of 2024\, the new record is a majestic\, guitar laden song collection\, made with the intention to shed light on the meaning of our contemporary disillusionment. \n\n\n\n\n\n\nDoors 8pm | Starts 8:30pm \n\n\n\n
URL:https://soundsgood.guide/gig/meg-ryan-film-club-perform-the-songs-of-j-christmas-phillips/
LOCATION:Wunderbar Lyttelton\, 19 London St\, Lyttelton\, 8082\, NZ
CATEGORIES:Gig
ATTACH;FMTTYPE=image/png:https://soundsgood.guide/wp-content/uploads/2024/11/Screenshot-2024-11-25-090819.png
END:VEVENT
END:VCALENDAR