BEGIN:VCALENDAR
VERSION:2.0
PRODID:-//SoundsGood - ECPv4.9.4//NONSGML v1.0//EN
CALSCALE:GREGORIAN
METHOD:PUBLISH
X-WR-CALNAME:SoundsGood
X-ORIGINAL-URL:https://soundsgood.guide
X-WR-CALDESC:Events for SoundsGood
BEGIN:VTIMEZONE
TZID:"Pacific/Auckland"
BEGIN:STANDARD
TZOFFSETFROM:+1300
TZOFFSETTO:+1200
TZNAME:NZST
DTSTART:20250405T140000
END:STANDARD
BEGIN:DAYLIGHT
TZOFFSETFROM:+1200
TZOFFSETTO:+1300
TZNAME:NZDT
DTSTART:20250927T140000
END:DAYLIGHT
END:VTIMEZONE
BEGIN:VEVENT
DTSTART;TZID="Pacific/Auckland":20250607T200000
DTEND;TZID="Pacific/Auckland":20250607T233000
DTSTAMP:20260421T081817
CREATED:20250331T021518Z
LAST-MODIFIED:20250331T021518Z
UID:25221-1749326400-1749339000@soundsgood.guide
SUMMARY:Mel Parsons
DESCRIPTION:UTR Presents \nAfter a watershed year in 2024 with SABOTAGE\, multi award-winning and 2025 Taite Prize finalist Mel Parsons brings a taste of things to come with her upbeat\, introspective new single and video ‘Post High Slide’. Parsons will celebrate the new single with a run of shows through Aotearoa and Australia in June 2025. \n
URL:https://soundsgood.guide/gig/mel-parsons/
LOCATION:LOONS\, 16 CANTERBURY ST\, CHRUSTCHURCH\, LYTTELTON\, 8082\, New Zealand
CATEGORIES:Gig
ATTACH;FMTTYPE=image/jpeg:https://soundsgood.guide/wp-content/uploads/2025/03/melParsonsPoster2025.jpg
END:VEVENT
END:VCALENDAR