BEGIN:VCALENDAR
VERSION:2.0
PRODID:-//SoundsGood - ECPv4.9.4//NONSGML v1.0//EN
CALSCALE:GREGORIAN
METHOD:PUBLISH
X-WR-CALNAME:SoundsGood
X-ORIGINAL-URL:https://soundsgood.guide
X-WR-CALDESC:Events for SoundsGood
BEGIN:VTIMEZONE
TZID:"Pacific/Auckland"
BEGIN:STANDARD
TZOFFSETFROM:+1300
TZOFFSETTO:+1200
TZNAME:NZST
DTSTART:20240406T140000
END:STANDARD
BEGIN:DAYLIGHT
TZOFFSETFROM:+1200
TZOFFSETTO:+1300
TZNAME:NZDT
DTSTART:20240928T140000
END:DAYLIGHT
END:VTIMEZONE
BEGIN:VEVENT
DTSTART;TZID="Pacific/Auckland":20240427T200000
DTEND;TZID="Pacific/Auckland":20240427T233000
DTSTAMP:20260422T065049
CREATED:20240401T232554Z
LAST-MODIFIED:20240401T232554Z
UID:21943-1714248000-1714260600@soundsgood.guide
SUMMARY:Mim Jensen Birthday Extravaganza
DESCRIPTION:Ōtautahi artist Mim Jensen is celebrating her birthday with a very special show at Space Academy with support from CAITLIN\, Amber Carly Williams and Wayward Summer. \nYou can expect good times\, great music\, party games and a party hat on the house! \nRock up early so you don’t miss out on any of the fun! \n
URL:https://soundsgood.guide/gig/mim-jensen-birthday-extravaganza/
LOCATION:Space Academy\, 371 St Asaph St\, Christchurch\, 8011\, New Zealand
CATEGORIES:Gig
ATTACH;FMTTYPE=image/png:https://soundsgood.guide/wp-content/uploads/2024/04/89267-507686.png
END:VEVENT
END:VCALENDAR