BEGIN:VCALENDAR
VERSION:2.0
PRODID:-//SoundsGood - ECPv4.9.4//NONSGML v1.0//EN
CALSCALE:GREGORIAN
METHOD:PUBLISH
X-WR-CALNAME:SoundsGood
X-ORIGINAL-URL:https://soundsgood.guide
X-WR-CALDESC:Events for SoundsGood
BEGIN:VTIMEZONE
TZID:"Pacific/Auckland"
BEGIN:STANDARD
TZOFFSETFROM:+1300
TZOFFSETTO:+1200
TZNAME:NZST
DTSTART:20250405T140000
END:STANDARD
BEGIN:DAYLIGHT
TZOFFSETFROM:+1200
TZOFFSETTO:+1300
TZNAME:NZDT
DTSTART:20250927T140000
END:DAYLIGHT
END:VTIMEZONE
BEGIN:VEVENT
DTSTART;TZID="Pacific/Auckland":20250706T180000
DTEND;TZID="Pacific/Auckland":20250706T200000
DTSTAMP:20260421T091238
CREATED:20250616T012648Z
LAST-MODIFIED:20250616T012648Z
UID:25933-1751824800-1751832000@soundsgood.guide
SUMMARY:Mojo Jacket
DESCRIPTION:Ben Fumi (Mojo Jacket) performing 2 hours of fun and soulful music\, to get you dancing and singing along to some you know\, and enjoying his original tunes that you don’t\, *yet*.\nA one man band like you’ve never seen: Farmer footdrums\, rhythm/lead guitar\, plus Ben’s passionate vocals\, all live\, no loops. \nIndie\, rock\, blues\, reggae\, soul\, with a little flamenco and gypsy jazz inspiration here and there. \nDoor sales available\nTickets also available over the bar at Wunderbar \nCheck Ben’s music out @mojojacket on instagram and spotify \n
URL:https://soundsgood.guide/gig/mojo-jacket/
LOCATION:Wunderbar\, 14 Canterbury Street\, Lyttelton\, 8082\, New Zealand
CATEGORIES:Gig
ATTACH;FMTTYPE=image/jpeg:https://soundsgood.guide/wp-content/uploads/2025/06/96876-233447.jpg
END:VEVENT
END:VCALENDAR