BEGIN:VCALENDAR
VERSION:2.0
PRODID:-//SoundsGood - ECPv4.9.4//NONSGML v1.0//EN
CALSCALE:GREGORIAN
METHOD:PUBLISH
X-WR-CALNAME:SoundsGood
X-ORIGINAL-URL:https://soundsgood.guide
X-WR-CALDESC:Events for SoundsGood
BEGIN:VTIMEZONE
TZID:"Pacific/Auckland"
BEGIN:STANDARD
TZOFFSETFROM:+1300
TZOFFSETTO:+1200
TZNAME:NZST
DTSTART:20240406T140000
END:STANDARD
BEGIN:DAYLIGHT
TZOFFSETFROM:+1200
TZOFFSETTO:+1300
TZNAME:NZDT
DTSTART:20240928T140000
END:DAYLIGHT
END:VTIMEZONE
BEGIN:VEVENT
DTSTART;TZID="Pacific/Auckland":20240802T200000
DTEND;TZID="Pacific/Auckland":20240802T200000
DTSTAMP:20260426T005327
CREATED:20240707T205431Z
LAST-MODIFIED:20240707T205431Z
UID:23052-1722628800-1722628800@soundsgood.guide
SUMMARY:Moonflower EP Release Show Ft. The return of EnFire
DESCRIPTION:Moonflower’s long awaited EP ‘Season of the Fire’ is dropping on the 2nd August and to celebrate they’re playing their hometown. As if that wasn’t exciting enough\, Chch doom legends EnFire make a return after a long break. Also joining them\, Passenger (duo) with their catchy\, heavy rock originals and Zephyr\, inspired by classic rock of the 60’s and 70’s\, this young band will get ya groovin’. \n
URL:https://soundsgood.guide/gig/moonflower-ep-release-show-ft-the-return-of-enfire/
LOCATION:darkroom\, 336 St. Asaph St\, Christchurch\, 8011\, NZ
CATEGORIES:Gig,Music,Release
ATTACH;FMTTYPE=image/png:https://soundsgood.guide/wp-content/uploads/2024/07/UnderRadarposter.png
END:VEVENT
END:VCALENDAR