BEGIN:VCALENDAR
VERSION:2.0
PRODID:-//SoundsGood - ECPv4.9.4//NONSGML v1.0//EN
CALSCALE:GREGORIAN
METHOD:PUBLISH
X-WR-CALNAME:SoundsGood
X-ORIGINAL-URL:https://soundsgood.guide
X-WR-CALDESC:Events for SoundsGood
BEGIN:VTIMEZONE
TZID:"Pacific/Auckland"
BEGIN:STANDARD
TZOFFSETFROM:+1300
TZOFFSETTO:+1200
TZNAME:NZST
DTSTART:20250405T140000
END:STANDARD
BEGIN:DAYLIGHT
TZOFFSETFROM:+1200
TZOFFSETTO:+1300
TZNAME:NZDT
DTSTART:20250927T140000
END:DAYLIGHT
END:VTIMEZONE
BEGIN:VEVENT
DTSTART;TZID="Pacific/Auckland":20250508T063000
DTEND;TZID="Pacific/Auckland":20250508T080000
DTSTAMP:20260421T103845
CREATED:20250429T210008Z
LAST-MODIFIED:20250429T210008Z
UID:25454-1746685800-1746691200@soundsgood.guide
SUMMARY:Morning People Ōtautahi feat. Beccie B
DESCRIPTION:CHCH: Morning People Ōtautahi feat. Beccie B! \nFollowing a short hiatus\, Morning People is BACK in the 03\, and to celebrate Ōtautahi’s own Beccie B is on DJ duties. \nHost of George FM Nights\, party curator\, promoter and DJ\, Beccie B has cemented herself as a tastemaker within the Aotearoa Electronic music space. \nNo two sets from Beccie are ever the same. With her on stage presence and wide array of tune selection she moves the crowds at every party\, keeping her audience on their toes. With support credits to her name from Club Angel\, Nikki Nair\, Mall Grab\, Skin On Skin\, to Chaos in the CBD and Frank Booker\, her catalog runs deep. \nShe’s sold out club shows all across Aotearoa\, she’s played some of the best festivals in our fine isle including Rhythm and Vines\, Home Grown\, Electric Avenue\, Hidden Lakes\, she’s supported dance legends including Fatboy Slim & Basement Jaxx\, Peggy Gou and Flume\, and on Thursday 8th May she plays Morning People Ōtautahi. \nIn usual Morning People fashion\, dancefloor pressure will be served alongside complimentary Altezano Brothers coffee\, All Good bananas and drinks from Karma. \nMorning People Ōtautahi is supported by the lovelies at RDU\, ka rawe! \nAlcohol free\, dress to sweat. \nTickets available now! \n#partyfirstworklater \n  \n*** \nMorning People Ōtautahi feat. Beccie B\nThursday 8th May\n6:30am – 8:00am\nHide\n172 St Asaph Street\nChristchurch \n*** \nPlease note\, Morning People events at Hide are strictly 18+ \nMorning People ticket refund policy: Tickets are non-refundable\, however if an event is cancelled\, or if an event is postponed and the new date doesn’t suit you\, you will be offered a full refund. \n
URL:https://soundsgood.guide/gig/morning-people-otautahi-feat-beccie-b/
LOCATION:Hide\, 172 St Asaph Street\, Christchurch\, 8011\, NZ
CATEGORIES:Dance
ATTACH;FMTTYPE=image/png:https://soundsgood.guide/wp-content/uploads/2025/04/Screenshot-2025-04-30-085945.png
END:VEVENT
END:VCALENDAR