BEGIN:VCALENDAR
VERSION:2.0
PRODID:-//SoundsGood - ECPv4.9.4//NONSGML v1.0//EN
CALSCALE:GREGORIAN
METHOD:PUBLISH
X-WR-CALNAME:SoundsGood
X-ORIGINAL-URL:https://soundsgood.guide
X-WR-CALDESC:Events for SoundsGood
BEGIN:VTIMEZONE
TZID:"Pacific/Auckland"
BEGIN:STANDARD
TZOFFSETFROM:+1300
TZOFFSETTO:+1200
TZNAME:NZST
DTSTART:20240406T140000
END:STANDARD
BEGIN:DAYLIGHT
TZOFFSETFROM:+1200
TZOFFSETTO:+1300
TZNAME:NZDT
DTSTART:20240928T140000
END:DAYLIGHT
END:VTIMEZONE
BEGIN:VEVENT
DTSTART;TZID="Pacific/Auckland":20241231T200000
DTEND;TZID="Pacific/Auckland":20241231T233000
DTSTAMP:20260421T135307
CREATED:20241122T005739Z
LAST-MODIFIED:20241122T005739Z
UID:24154-1735675200-1735687800@soundsgood.guide
SUMMARY:New Year's Eve Bangers
DESCRIPTION:Ring in the New Year with the Wunderbar’s most fun party of the year! \nDress up in your favourite party outfit and dance to the best bangers of the 80’s\, 90’s and beyond. \nWe’ll be opening up the whole bar and pumping the music through\, so you can dance in the front and back. Lots of places to chill and take a breather in our seated areas or on the outdoor decks. \nDJ Dale is the best DJ of this era\, and will be playing all the hits you know and love. \nNew Year’s Eve at the Wunderbar is always a great time\, with the best vibe\, happiest people and incredible harbour views to boot. \nYou’ll also get a FREE COCKTAIL with your ticket (non-alcoholic options available too). \nLast year sold out quickly\, so don’t wait long to grab your tickets! \n
URL:https://soundsgood.guide/gig/new-years-eve-bangers/
LOCATION:Wunderbar Lyttelton\, 19 London St\, Lyttelton\, 8082\, NZ
CATEGORIES:DJ Night
ATTACH;FMTTYPE=image/png:https://soundsgood.guide/wp-content/uploads/2024/11/93587-465713.png
END:VEVENT
END:VCALENDAR