BEGIN:VCALENDAR
VERSION:2.0
PRODID:-//SoundsGood - ECPv4.9.4//NONSGML v1.0//EN
CALSCALE:GREGORIAN
METHOD:PUBLISH
X-WR-CALNAME:SoundsGood
X-ORIGINAL-URL:https://soundsgood.guide
X-WR-CALDESC:Events for SoundsGood
BEGIN:VTIMEZONE
TZID:"Pacific/Auckland"
BEGIN:STANDARD
TZOFFSETFROM:+1300
TZOFFSETTO:+1200
TZNAME:NZST
DTSTART:20240406T140000
END:STANDARD
BEGIN:DAYLIGHT
TZOFFSETFROM:+1200
TZOFFSETTO:+1300
TZNAME:NZDT
DTSTART:20240928T140000
END:DAYLIGHT
END:VTIMEZONE
BEGIN:VEVENT
DTSTART;TZID="Pacific/Auckland":20241212T200000
DTEND;TZID="Pacific/Auckland":20241212T230000
DTSTAMP:20260421T175210
CREATED:20241208T195953Z
LAST-MODIFIED:20241208T195953Z
UID:24271-1734033600-1734044400@soundsgood.guide
SUMMARY:Noiselotteree
DESCRIPTION:A Thursday Noise Situation presents one final showcase for 2024 – a night of improvised performances from regular A Thursday Noise Situation artists who have been placed into random grouping to perform together on the night. \nExpect experimental\, ambient\, and noise acts. \nThurs Dec 12th\n8pm doors\, music from 8:30pm\nFree entry \nR18. R.O.A.R. \n
URL:https://soundsgood.guide/gig/noiselotteree/
LOCATION:Darkroom\, 336 St Asaph Street\, Christchurch\, Canterbury\, New Zealand
ATTACH;FMTTYPE=image/jpeg:https://soundsgood.guide/wp-content/uploads/2024/12/noiselotteree.jpg
ORGANIZER;CN="Darkroom":MAILTO:info@darkroom.bar
END:VEVENT
END:VCALENDAR