BEGIN:VCALENDAR
VERSION:2.0
PRODID:-//SoundsGood - ECPv4.9.4//NONSGML v1.0//EN
CALSCALE:GREGORIAN
METHOD:PUBLISH
X-WR-CALNAME:SoundsGood
X-ORIGINAL-URL:https://soundsgood.guide
X-WR-CALDESC:Events for SoundsGood
BEGIN:VTIMEZONE
TZID:"Pacific/Auckland"
BEGIN:STANDARD
TZOFFSETFROM:+1300
TZOFFSETTO:+1200
TZNAME:NZST
DTSTART:20240406T140000
END:STANDARD
BEGIN:DAYLIGHT
TZOFFSETFROM:+1200
TZOFFSETTO:+1300
TZNAME:NZDT
DTSTART:20240928T140000
END:DAYLIGHT
END:VTIMEZONE
BEGIN:VEVENT
DTSTART;TZID="Pacific/Auckland":20241123T150000
DTEND;TZID="Pacific/Auckland":20241123T230000
DTSTAMP:20260422T020935
CREATED:20240609T212522Z
LAST-MODIFIED:20240609T212522Z
UID:22774-1732374000-1732402800@soundsgood.guide
SUMMARY:Northern Invasion Too
DESCRIPTION:3 years ago we held the first Northern Invasion in Christchurch in conjunction with Two Thumb Brewery . Over 100 people attended the all dayer and many new friends were made by those that attended .\nIt’s back and better and 8 hrs long !!!! Christchurches original and best homage to Northern soul \, Rare Groove \, Ska \, Two Tone \, Rocksteady \, Mod and New Wave .\nDjs from across the country spinning the wheels of steel . \n
URL:https://soundsgood.guide/gig/northern-invasion-too/
LOCATION:Two Thumb Brewing Co.\, 352 Manchester Street\, Christchurch\, Canterbury\, New Zealand
CATEGORIES:DJ Night
ATTACH;FMTTYPE=image/png:https://soundsgood.guide/wp-content/uploads/2024/06/90497-419069.png
END:VEVENT
END:VCALENDAR