BEGIN:VCALENDAR
VERSION:2.0
PRODID:-//SoundsGood - ECPv4.9.4//NONSGML v1.0//EN
CALSCALE:GREGORIAN
METHOD:PUBLISH
X-WR-CALNAME:SoundsGood
X-ORIGINAL-URL:https://soundsgood.guide
X-WR-CALDESC:Events for SoundsGood
BEGIN:VTIMEZONE
TZID:"Pacific/Auckland"
BEGIN:STANDARD
TZOFFSETFROM:+1300
TZOFFSETTO:+1200
TZNAME:NZST
DTSTART:20240406T140000
END:STANDARD
BEGIN:DAYLIGHT
TZOFFSETFROM:+1200
TZOFFSETTO:+1300
TZNAME:NZDT
DTSTART:20240928T140000
END:DAYLIGHT
END:VTIMEZONE
BEGIN:VEVENT
DTSTART;TZID="Pacific/Auckland":20240106T200000
DTEND;TZID="Pacific/Auckland":20240106T200000
DTSTAMP:20260421T102010
CREATED:20231001T225140Z
LAST-MODIFIED:20231001T225140Z
UID:20478-1704571200-1704571200@soundsgood.guide
SUMMARY:Obituary
DESCRIPTION:OBITUARY remains to this very day as one of the most influential and groundbreaking bands in the death metal genre\, one which they helped to create. Combining hyper-speed guitar riffing\, complex arrangements and guttural screams\, the band created a bleak and violent soundscape all of their own. After more than 35 years in the pit\, OBITUARY continues to peak and dominate the genre worldwide. That’s a given and proven fact! \nWith the memory of 2020’s sold out ‘Cause Of Death’ New Zealand tour etched into the minds of every person there\, OBITUARY are busting to kickstart 2024 right in the guts by herding their way south to rearrange venues\, rumble stages and remind us all of the classic era of death metal by churning out a massive career spanning set including a choice slab of meaty cuts from the classic albums of their early years!! \nMore than two decades deep into their existence\, PSYCROPTIC have reigned as kings of Australian death metal for the vast majority of that time. With their distinct technical sound\, they have consistently maintained a strong\, loyal\, and long-lasting rapport with the fans. It’s been a while coming\, but PSYCROPTIC are finally in a position to let rip on their most rabid fans of all and together with OBITUARY\, make a formidable yet unforgettable experience. \n
URL:https://soundsgood.guide/gig/obituary/
LOCATION:LOONS\, 16 CANTERBURY ST\, CHRUSTCHURCH\, LYTTELTON\, 8082\, New Zealand
CATEGORIES:Gig
END:VEVENT
END:VCALENDAR