BEGIN:VCALENDAR
VERSION:2.0
PRODID:-//SoundsGood - ECPv4.9.4//NONSGML v1.0//EN
CALSCALE:GREGORIAN
METHOD:PUBLISH
X-WR-CALNAME:SoundsGood
X-ORIGINAL-URL:https://soundsgood.guide
X-WR-CALDESC:Events for SoundsGood
BEGIN:VTIMEZONE
TZID:"Pacific/Auckland"
BEGIN:STANDARD
TZOFFSETFROM:+1300
TZOFFSETTO:+1200
TZNAME:NZST
DTSTART:20240406T140000
END:STANDARD
BEGIN:DAYLIGHT
TZOFFSETFROM:+1200
TZOFFSETTO:+1300
TZNAME:NZDT
DTSTART:20240928T140000
END:DAYLIGHT
END:VTIMEZONE
BEGIN:VEVENT
DTSTART;TZID="Pacific/Auckland":20241130T200000
DTEND;TZID="Pacific/Auckland":20241130T233000
DTSTAMP:20260421T212918
CREATED:20241020T205326Z
LAST-MODIFIED:20241020T205357Z
UID:23926-1732996800-1733009400@soundsgood.guide
SUMMARY:Office Dog w/ Wurld Series
DESCRIPTION:After a 16 show tour of the US\, Office Dog are returning to Aotearoa for 4 special shows. The set will include songs from their debut album Spiel and the new Doggerland EP\, as well as a bunch of unreleased tracks that the band has been roadtesting ahead of recording album two. These will also be Office Dog’s last shows for 2024. \n
URL:https://soundsgood.guide/gig/office-dog-w-wurld-series/
LOCATION:lyttelton coffee company\, 29 London Street\, Lyttelton\, chch\, New Zealand
CATEGORIES:Gig,Tour
ATTACH;FMTTYPE=image/jpeg:https://soundsgood.guide/wp-content/uploads/2024/10/93026-834968.jpg
END:VEVENT
END:VCALENDAR