BEGIN:VCALENDAR
VERSION:2.0
PRODID:-//SoundsGood - ECPv4.9.4//NONSGML v1.0//EN
CALSCALE:GREGORIAN
METHOD:PUBLISH
X-WR-CALNAME:SoundsGood
X-ORIGINAL-URL:https://soundsgood.guide
X-WR-CALDESC:Events for SoundsGood
BEGIN:VTIMEZONE
TZID:"Pacific/Auckland"
BEGIN:STANDARD
TZOFFSETFROM:+1300
TZOFFSETTO:+1200
TZNAME:NZST
DTSTART:20240406T140000
END:STANDARD
BEGIN:DAYLIGHT
TZOFFSETFROM:+1200
TZOFFSETTO:+1300
TZNAME:NZDT
DTSTART:20240928T140000
END:DAYLIGHT
END:VTIMEZONE
BEGIN:VEVENT
DTSTART;TZID="Pacific/Auckland":20240831T200000
DTEND;TZID="Pacific/Auckland":20240831T233000
DTSTAMP:20260422T095820
CREATED:20240603T214425Z
LAST-MODIFIED:20240603T214425Z
UID:22677-1725134400-1725147000@soundsgood.guide
SUMMARY:Old Mervs - How The Fark Are Ya - Tour
DESCRIPTION:Lifelong friends Henry Carrington-Jones and David House (Old Mervs) grew up together on farms outside of Kojonup\, a tiny town approximately three hours south of Perth\, Western Australia. As high schoolers they cleared out a stable to use as a rehearsal space for their new band\, named after one of Henry’s family farm working dogs. With Henry on drums and David on guitar/vox\, it was truly humble beginnings. \nNowadays\, Old Mervs are considered one of the most exciting rock acts in Australia. Breakout singles ‘Cellphone’ (2020)\, ‘Where I Go’ (2022)\, and ‘Sweetheart’ (2023) have been streamed in the millions; while their second EP\, Give It Up (2023)\, debuted at #2 on the ARIA Australian Albums chart; and in January ‘Sweetheart’ landed at #47 in the 2023 triple j Hottest 100. \nThe duo has supported huge international artists\, including Liam Gallagher and The Wombats\, as well as local heroes Spacey Jane and King Stingray. They also boast a dedicated fanbase of their own\, having sold out multiple national tours and performed heroic appearances on premiere festival line-ups\, including Splendour In The Grass\, Groovin the Moo and Yours and Owls. \nThey’re set to play the biggest shows of their career in 2024\, when they embark on their ‘How The Fark Are Ya’ tour across Australia and NZ\, this August and September. \n
URL:https://soundsgood.guide/gig/old-mervs-how-the-fark-are-ya-tour/
LOCATION:LOONS\, 16 CANTERBURY ST\, CHRUSTCHURCH\, LYTTELTON\, 8082\, New Zealand
CATEGORIES:Gig,Tour
ATTACH;FMTTYPE=image/jpeg:https://soundsgood.guide/wp-content/uploads/2024/06/old_merves_press2024.jpg
END:VEVENT
END:VCALENDAR