BEGIN:VCALENDAR
VERSION:2.0
PRODID:-//SoundsGood - ECPv4.9.4//NONSGML v1.0//EN
CALSCALE:GREGORIAN
METHOD:PUBLISH
X-WR-CALNAME:SoundsGood
X-ORIGINAL-URL:https://soundsgood.guide
X-WR-CALDESC:Events for SoundsGood
BEGIN:VTIMEZONE
TZID:"Pacific/Auckland"
BEGIN:STANDARD
TZOFFSETFROM:+1300
TZOFFSETTO:+1200
TZNAME:NZST
DTSTART:20250405T140000
END:STANDARD
BEGIN:DAYLIGHT
TZOFFSETFROM:+1200
TZOFFSETTO:+1300
TZNAME:NZDT
DTSTART:20250927T140000
END:DAYLIGHT
END:VTIMEZONE
BEGIN:VEVENT
DTSTART;TZID="Pacific/Auckland":20251107T223000
DTEND;TZID="Pacific/Auckland":20251108T030000
DTSTAMP:20260422T110520
CREATED:20251028T031456Z
LAST-MODIFIED:20251028T031456Z
UID:26422-1762554600-1762570800@soundsgood.guide
SUMMARY:On The House V2
DESCRIPTION:Volume 2 of a packed out night at Bennys Barbershop. This time\, our stacked line up will be moving to Hide and laying down the grooviest of House beats ranging from 124bpm all the way too 145bpm. \nWith cheap tickets\, high grade production and lots of handsome DJ’s\, you’d be a silly sausage to miss it. \nLineup:\n– Convex\n– OTD (Over The Ditch)\n– DONS\n– Vista\n– Chainy \nThere will be door sales too\, see ya Nov 7th. \n– Dons & Our Sound xx \n
URL:https://soundsgood.guide/gig/on-the-house-v2/
LOCATION:Hide Club\, 172 Saint Asaph Street\, Christchurch\, New Zealand 8011
CATEGORIES:Gig
ATTACH;FMTTYPE=image/jpeg:https://soundsgood.guide/wp-content/uploads/2025/10/99074-28225.jpeg
END:VEVENT
END:VCALENDAR