BEGIN:VCALENDAR
VERSION:2.0
PRODID:-//SoundsGood - ECPv4.9.4//NONSGML v1.0//EN
CALSCALE:GREGORIAN
METHOD:PUBLISH
X-WR-CALNAME:SoundsGood
X-ORIGINAL-URL:https://soundsgood.guide
X-WR-CALDESC:Events for SoundsGood
BEGIN:VTIMEZONE
TZID:"Pacific/Auckland"
BEGIN:STANDARD
TZOFFSETFROM:+1300
TZOFFSETTO:+1200
TZNAME:NZST
DTSTART:20240406T140000
END:STANDARD
BEGIN:DAYLIGHT
TZOFFSETFROM:+1200
TZOFFSETTO:+1300
TZNAME:NZDT
DTSTART:20240928T140000
END:DAYLIGHT
END:VTIMEZONE
BEGIN:VEVENT
DTSTART;TZID="Pacific/Auckland":20241019T200000
DTEND;TZID="Pacific/Auckland":20241019T233000
DTSTAMP:20260422T142611
CREATED:20240721T233201Z
LAST-MODIFIED:20240721T233201Z
UID:23186-1729368000-1729380600@soundsgood.guide
SUMMARY:Pickle Darling + Ryan Fisherman tour
DESCRIPTION:100% GOOD are stoked to announce a joint solo tour by indie folk troubadours Pickle Darling & Ryan Fisherman in October this year. Beginning in Nelson on October 12\, the pair will visit Christchurch Oct 19\, Wellington Oct 26 and finish in Auckland on Sunday the 27th. Lukas Mayo (Pickle Darling) says of the tour “this will my first ever solo tour\, but also my last bunch of shows for a while before I hunker down and focus on finishing my next album (and a soundtrack I’m haven’t played in years! It’ll be a very intimate series of shows and I won’t really be sticking to the same setlist each night. But also this tour is mostly just an excuse for me and Ryan to hang out.” \nRyan Fisherman said “this will be my first ever Ryan Fisherman tour\, I’ve toured with a bunch of other bands over the years\, but never with my own material. The fact that I get to share a tour with Pickle Darling is a dream come true!” \n
URL:https://soundsgood.guide/gig/pickle-darling-ryan-fisherman-tour/
LOCATION:Space Academy\, 371 St Asaph St\, Christchurch\, 8011\, New Zealand
CATEGORIES:Gig,Tour
ATTACH;FMTTYPE=image/jpeg:https://soundsgood.guide/wp-content/uploads/2024/07/pickleDarlingPoster2024.jpg
END:VEVENT
END:VCALENDAR