BEGIN:VCALENDAR
VERSION:2.0
PRODID:-//SoundsGood - ECPv4.9.4//NONSGML v1.0//EN
CALSCALE:GREGORIAN
METHOD:PUBLISH
X-WR-CALNAME:SoundsGood
X-ORIGINAL-URL:https://soundsgood.guide
X-WR-CALDESC:Events for SoundsGood
BEGIN:VTIMEZONE
TZID:"Pacific/Auckland"
BEGIN:STANDARD
TZOFFSETFROM:+1300
TZOFFSETTO:+1200
TZNAME:NZST
DTSTART:20240406T140000
END:STANDARD
BEGIN:DAYLIGHT
TZOFFSETFROM:+1200
TZOFFSETTO:+1300
TZNAME:NZDT
DTSTART:20240928T140000
END:DAYLIGHT
END:VTIMEZONE
BEGIN:VEVENT
DTSTART;TZID="Pacific/Auckland":20240519T190000
DTEND;TZID="Pacific/Auckland":20240519T233000
DTSTAMP:20260425T102444
CREATED:20240512T215918Z
LAST-MODIFIED:20240512T215918Z
UID:22478-1716145200-1716161400@soundsgood.guide
SUMMARY:Plucky Sunday's Ft. Tg Shand\, Blair Parkes and Admiral Drowsy
DESCRIPTION:Melted Ice Cream endorses PLUCKY SUNDAYS Vol.2 \nFeaturing\nTG SHAND\, BLAIR PARKES & ADMIRAL DROWSY!\nDoors 7pm\nShow 7.30 \n* TG Shand\nDescribed most often as “dreamy”\, T. G. Shand brings a modern nostalgic vibe for lovers of lush\, twangy guitar pop. These beats-driven tracks come with a classic 90s shoe gaze twist\, with influences from the likes of Curve\, Chapterhouse\, Medicine and equally from modern R&B/hip hop heroes. \n*Blair Parkes\nBlair Parkes is the Te Karoro Karoro / New Brighton based singer and songwriter of Aotearoa / New Zealand acts running club\, all fall down\, bridal path\, cardigan bay\, condensations\, creeley\, the l.e.d.s\, the letter 5\, little dead things\, range\, saturations\, swim everything\, thomas : parkes\, 103.\nHe is super excited to be playing at Space Academy where he will be performing stripped back electric versions of songs from his forty year career.\nBlair’s recent single\, ‘time will stop all of its meaning’ topped the Radioscope alternative airplay charts in February…but will he even play it? come along and see ! \n*Admiral Drowsy\nAdmiral Drowsy is the song writing veneer under which you will find Luke Redfern Scott.\nLuke has been residing in Aotearoa since the winter of 2016 and has gone on to release two full length albums ‘The Gutter Boy Spectates’ in 2021 and the more recent ‘Industrial Consistency’ released back in January 2024.\nHis music has been said to sound like distorted medieval folk allusions\, songs that have a whispering mystery to them. He has performed sporadically over the years and has been lucky enough to play at a number of venues across the motu and has collaborated with a number of different artists. \n
URL:https://soundsgood.guide/gig/plucky-sundays-ft-tg-shand-blair-parkes-and-admiral-drowsy/
LOCATION:Space Academy\, 371 St Asaph St\, Christchurch\, 8011\, New Zealand
CATEGORIES:Gig
ATTACH;FMTTYPE=image/jpeg:https://soundsgood.guide/wp-content/uploads/2024/05/90042-240286.jpg
END:VEVENT
END:VCALENDAR