BEGIN:VCALENDAR
VERSION:2.0
PRODID:-//SoundsGood - ECPv4.9.4//NONSGML v1.0//EN
CALSCALE:GREGORIAN
METHOD:PUBLISH
X-WR-CALNAME:SoundsGood
X-ORIGINAL-URL:https://soundsgood.guide
X-WR-CALDESC:Events for SoundsGood
BEGIN:VTIMEZONE
TZID:"Pacific/Auckland"
BEGIN:STANDARD
TZOFFSETFROM:+1300
TZOFFSETTO:+1200
TZNAME:NZST
DTSTART:20240406T140000
END:STANDARD
BEGIN:DAYLIGHT
TZOFFSETFROM:+1200
TZOFFSETTO:+1300
TZNAME:NZDT
DTSTART:20240928T140000
END:DAYLIGHT
END:VTIMEZONE
BEGIN:VEVENT
DTSTART;TZID="Pacific/Auckland":20241114T200000
DTEND;TZID="Pacific/Auckland":20241115T010000
DTSTAMP:20260422T032904
CREATED:20241104T221835Z
LAST-MODIFIED:20241104T221835Z
UID:24014-1731614400-1731632400@soundsgood.guide
SUMMARY:Pool House
DESCRIPTION:Pool House\, NZ surf rockers\, are fresh off the back of their recent EP “Sandflies” to play one night at Flux. Get your tickets now! \n  \nPool House is ready to bring some noise at Flux on the 14th of November. Joined by Mim Jensen and Fleeced\, there will certainly be some tunes to dance to! Celebrating the release of their recent EP ‘Sandflies\,’ this show will be a great way to kick off your long weekend. Don’t miss this memorable night at the legendary Flux! \n\n
URL:https://soundsgood.guide/gig/pool-house/
LOCATION:FLUX\, 270 St Asaph Street\, Christchurch\, New Zealand
CATEGORIES:Gig,Release
ATTACH;FMTTYPE=image/png:https://soundsgood.guide/wp-content/uploads/2024/11/Screenshot-2024-11-05-111816.png
END:VEVENT
END:VCALENDAR