BEGIN:VCALENDAR
VERSION:2.0
PRODID:-//SoundsGood - ECPv4.9.4//NONSGML v1.0//EN
CALSCALE:GREGORIAN
METHOD:PUBLISH
X-WR-CALNAME:SoundsGood
X-ORIGINAL-URL:https://soundsgood.guide
X-WR-CALDESC:Events for SoundsGood
BEGIN:VTIMEZONE
TZID:"Pacific/Auckland"
BEGIN:STANDARD
TZOFFSETFROM:+1300
TZOFFSETTO:+1200
TZNAME:NZST
DTSTART:20240406T140000
END:STANDARD
BEGIN:DAYLIGHT
TZOFFSETFROM:+1200
TZOFFSETTO:+1300
TZNAME:NZDT
DTSTART:20240928T140000
END:DAYLIGHT
END:VTIMEZONE
BEGIN:VEVENT
DTSTART;TZID="Pacific/Auckland":20240906T203000
DTEND;TZID="Pacific/Auckland":20240906T233000
DTSTAMP:20260425T115037
CREATED:20240805T012335Z
LAST-MODIFIED:20240805T012335Z
UID:23317-1725654600-1725665400@soundsgood.guide
SUMMARY:Powder Chutes and Haast Hunter NZ Tour
DESCRIPTION:Powder Chutes and Haast Hunter are beyond excited to announce a Co-Headline NZ Tour. \nThe tour will see Powder Chutes playing the North Island for the first time\, and Haast Hunter also popping their South Island cherry! \nWe’ll be swapping headline duties as we go\, and also inviting other incredible bands to share the bill as we play cities and venues old and new to us. \nThe Tour kicks off on 30th August in Hamilton / Kirikiriroa at Last Place Bar\, takes in Auckland ion 31st August at Big Fan\, and then: \n6th September – A Rolling Stone Bar in Christchurch / Ōtautahi\n7th September – Wanaka at Rhyme & Reason. \nThere’s more shows\, and details to be added to the tour\, and we’ll announce these as we go\, so follow us on socials to stay informed. \nThe Tour coincides with both Powder Chutes and Haast Hunter releasing new music\, with Powder Chutes dropping their second album track ‘Duchies’ on 30th August\, and Haast Hunter their new track ‘Fortify’ on 2nd August. \nDon’t sleep on these tickets\, come and show support for bands putting it on the line! \n
URL:https://soundsgood.guide/gig/powder-chutes-and-haast-hunter-nz-tour/
LOCATION:A Rolling Stone\, 579 Colombo Street\, Christchurch\, Canterbury\, 8011\, New Zealand
CATEGORIES:Gig,Tour
ATTACH;FMTTYPE=image/jpeg:https://soundsgood.guide/wp-content/uploads/2024/08/91542-218666.jpg
END:VEVENT
END:VCALENDAR