BEGIN:VCALENDAR
VERSION:2.0
PRODID:-//SoundsGood - ECPv4.9.4//NONSGML v1.0//EN
CALSCALE:GREGORIAN
METHOD:PUBLISH
X-WR-CALNAME:SoundsGood
X-ORIGINAL-URL:https://soundsgood.guide
X-WR-CALDESC:Events for SoundsGood
BEGIN:VTIMEZONE
TZID:"Pacific/Auckland"
BEGIN:STANDARD
TZOFFSETFROM:+1300
TZOFFSETTO:+1200
TZNAME:NZST
DTSTART:20240406T140000
END:STANDARD
BEGIN:DAYLIGHT
TZOFFSETFROM:+1200
TZOFFSETTO:+1300
TZNAME:NZDT
DTSTART:20240928T140000
END:DAYLIGHT
END:VTIMEZONE
BEGIN:VEVENT
DTSTART;TZID="Pacific/Auckland":20240706T200000
DTEND;TZID="Pacific/Auckland":20240707T010000
DTSTAMP:20260422T121651
CREATED:20240624T025803Z
LAST-MODIFIED:20240624T025803Z
UID:22985-1720296000-1720314000@soundsgood.guide
SUMMARY:Proximity Effect
DESCRIPTION:Step into the electrifying world of Echo Train Records as we present Proximity Effect\, a night of sonic exploration showcasing an alternating current of Echo Train artists and emerging artists from Aotearoa. Join us for a multi-sensory experience and get ready to immerse yourself in a sound world of experimental bass music and beyond \n }} Proximity Effect {{ \n __MR MEATY BOY b2b protectionspell \n__Jagā b2b Ultraviolet \n__Social Sport b2b Junus Orca \n__spacelok \nAural stimulation provided by our good friends @ 103 Soundsystem 🔊🔊______ \n>Our shows are a safe space for everyone. Any form of prejudice against anyone will not be tolerated at all \n> Please look after yourself and your fellow human beings \n> Consent is key – NO means NO \n>If you feel unsafe\, please let one of the staff members\, or security know⚡ ETR Crew ⚡ \n10% of proceeds will be donated in support of Palestine \n
URL:https://soundsgood.guide/gig/proximity-effect/
LOCATION:FLUX\, 270 St Asaph Street\, Christchurch\, New Zealand
CATEGORIES:DJ Night
ATTACH;FMTTYPE=image/png:https://soundsgood.guide/wp-content/uploads/2024/06/Screenshot-2024-06-24-145749.png
END:VEVENT
END:VCALENDAR