BEGIN:VCALENDAR
VERSION:2.0
PRODID:-//SoundsGood - ECPv4.9.4//NONSGML v1.0//EN
CALSCALE:GREGORIAN
METHOD:PUBLISH
X-WR-CALNAME:SoundsGood
X-ORIGINAL-URL:https://soundsgood.guide
X-WR-CALDESC:Events for SoundsGood
BEGIN:VTIMEZONE
TZID:"Pacific/Auckland"
BEGIN:STANDARD
TZOFFSETFROM:+1300
TZOFFSETTO:+1200
TZNAME:NZST
DTSTART:20240406T140000
END:STANDARD
BEGIN:DAYLIGHT
TZOFFSETFROM:+1200
TZOFFSETTO:+1300
TZNAME:NZDT
DTSTART:20240928T140000
END:DAYLIGHT
END:VTIMEZONE
BEGIN:VEVENT
DTSTART;TZID="Pacific/Auckland":20240727T200000
DTEND;TZID="Pacific/Auckland":20240727T230000
DTSTAMP:20260422T081941
CREATED:20240630T220142Z
LAST-MODIFIED:20240630T220151Z
UID:23000-1722110400-1722121200@soundsgood.guide
SUMMARY:Psycho Gab EP Release Tour
DESCRIPTION:Join Psycho Gab (Rosetta Stone\, Caleb Wong\, Orlando Cooper\, Max Henley\, Finn McNeill) as they make their Ōtautahi debut to celebrate the release of their debut EP CRAZY TALK! Joined by Tay Renee and Chicks From Corea\, the group are putting on a night of smooth neo-soul\, jazz and RnB that you won’t want to miss out on. Fairly fresh faces in the Aotearoa music scene\, Psycho Gab have already made an impressive mark with their singles\, appearing in the SRN Top 10 for five weeks running with their single ‘Gabben’\, and again winning over Aotearoa student radio listeners with most recent single ‘Pianomen’ – previously #1 in the SRN Top 10 and #2 in the RDU Top 10! The group have been illustrating their passionate kaupapa of putting on electric live music experiences in Tāmaki\, and now they’re bringing the fun down South. \nJoining the group are Ōtautahi-based jazz five-piece Chicks From Corea\, who are known for their performances and awards in jazz competitions across the motu (Most Outstanding Composition\, Combo\, Vocalist\, Bassist at The National Youth Jazz Competition\, Winners of Jazz Band-It Jazz Composition Competition). Also joining this epic lineup is RnB artist Tay Renee\, a regular in the Ōtautahi live music scene\, bringing her heavenly vocals and smooth neo-soul vibes that are not to be missed! \n
URL:https://soundsgood.guide/gig/psycho-gab-ep-release-tour/
LOCATION:darkroom\, 336 St. Asaph St\, Christchurch\, 8011\, NZ
CATEGORIES:Music
ATTACH;FMTTYPE=image/jpeg:https://soundsgood.guide/wp-content/uploads/2024/06/Psycho-Gab-tour-poster.jpeg
END:VEVENT
END:VCALENDAR