BEGIN:VCALENDAR
VERSION:2.0
PRODID:-//SoundsGood - ECPv4.9.4//NONSGML v1.0//EN
CALSCALE:GREGORIAN
METHOD:PUBLISH
X-WR-CALNAME:SoundsGood
X-ORIGINAL-URL:https://soundsgood.guide
X-WR-CALDESC:Events for SoundsGood
BEGIN:VTIMEZONE
TZID:"Pacific/Auckland"
BEGIN:STANDARD
TZOFFSETFROM:+1300
TZOFFSETTO:+1200
TZNAME:NZST
DTSTART:20240406T140000
END:STANDARD
BEGIN:DAYLIGHT
TZOFFSETFROM:+1200
TZOFFSETTO:+1300
TZNAME:NZDT
DTSTART:20240928T140000
END:DAYLIGHT
END:VTIMEZONE
BEGIN:VEVENT
DTSTART;TZID="Pacific/Auckland":20241123T113000
DTEND;TZID="Pacific/Auckland":20241123T233000
DTSTAMP:20260422T005224
CREATED:20240825T204402Z
LAST-MODIFIED:20240825T204402Z
UID:23453-1732361400-1732404600@soundsgood.guide
SUMMARY:RADFEST 2024
DESCRIPTION:RADFEST 2024\nNestled in the heart of sunny Woolston\, Audioganic Studios invites you to join us on Saturday 23rd\, November\, for a day and night of unforgettable live music at RadFest! Featuring an eclectic lineup of the finest talent\, its a day for all to enjoy!\nAnti StasiBloody HellDark Matter HurricaneDr BloopensteinEarwigs Under FireElidiThe EasternJimmy BeeJunus OrcaLeft or RightLovetaNo BroadcastPhoebe VicScroogeSlimivichSomebody Do SomethingTentripper\nBYO Food & Drinks – NO GLASS!!There will be food available to purchase through the day along with a free BBQ!Bring warm clothing – event will go ahead rain or shine!\nGates open to day event at 11:30am – first act 12pm.Night event from 9pm til late. There are limited tickets available to the night event. Get a ticket for day and night and save!Buses will transport you to the night event venue\, this is included in your Day & Night Ticket.\nThere is no parking on site – please park down Marshall Street or\, take bus (#8 from the interchange\, Stop #32990).\nLIMITED EARLY BIRD TICKETS AVAILABLE NOW!https://events.humanitix.com/radfestAfterPay and ZipPay available!\nEvent address will be emailed to you with your ticket.\nThere will be no door sales!\nOne way door policy for the day event\, come prepared!!\nInvite your friends!\n
URL:https://soundsgood.guide/gig/radfest-2024/
LOCATION:Audioganic Studios\, 133b Radley Street\, Woolston\, Christchurch\, Canterbury\, 8011\, New Zealand
CATEGORIES:Festival
ATTACH;FMTTYPE=image/jpeg:https://soundsgood.guide/wp-content/uploads/2024/08/454816123_904823765008881_8339766748514941873_n.jpg
END:VEVENT
END:VCALENDAR