BEGIN:VCALENDAR
VERSION:2.0
PRODID:-//SoundsGood - ECPv4.9.4//NONSGML v1.0//EN
CALSCALE:GREGORIAN
METHOD:PUBLISH
X-WR-CALNAME:SoundsGood
X-ORIGINAL-URL:https://soundsgood.guide
X-WR-CALDESC:Events for SoundsGood
BEGIN:VTIMEZONE
TZID:"Pacific/Auckland"
BEGIN:STANDARD
TZOFFSETFROM:+1300
TZOFFSETTO:+1200
TZNAME:NZST
DTSTART:20250405T140000
END:STANDARD
BEGIN:DAYLIGHT
TZOFFSETFROM:+1200
TZOFFSETTO:+1300
TZNAME:NZDT
DTSTART:20250927T140000
END:DAYLIGHT
END:VTIMEZONE
BEGIN:VEVENT
DTSTART;TZID="Pacific/Auckland":20250412T140000
DTEND;TZID="Pacific/Auckland":20250412T180000
DTSTAMP:20260424T195927
CREATED:20250317T211633Z
LAST-MODIFIED:20250317T211633Z
UID:25169-1744466400-1744480800@soundsgood.guide
SUMMARY:Rails & Ales 3.0
DESCRIPTION:🚃🍻 Rails & Ales 3.0 – All Aboard for Christchurch’s Ultimate Tram Journey! 🍹🚋 \nWe’re back for 2025 and ready to roll! After two smash-hit events last year\, Rails & Ales is returning with more craft beers\, cocktails\, wine\, and good times from the city’s top venues – all while cruising the tracks on Christchurch’s iconic trams. \n📅 When: Saturday\, April 12th\, 2025\, from 2:00 PM to 6:00 PM \n📍 Where: Christchurch’s finest bars & trams – your ticket to a one-of-a-kind experience! \n🎟 Tickets Include: \n🍺 Beer Ticket: Enjoy 6 drinks in total—that’s a half pint at each of the 6 participating venues. \n🍸 Cocktail Ticket: Enjoy 3 cocktails\, redeemable at The Austin Club\, Cascade\, and Craft Embassy. \n🍷 Wine Ticket: Enjoy 3 glasses of wine (150ml each)\, redeemable at DUX\, The Victoria\, and Smash \n🚨 NEW for 2025: \nWe’re making things easy-peasy with a Token System for drink redemptions. Grab your wristband\, ticket\, and tokens from your starting venue\, and you’re good to go! \n🎟️ How It Works: \nStart from any venue – You choose when you buy your ticket! \nSwap tokens for drinks: \nBeer Tokens: Redeemable at all venues for a half pint. \nWine Tokens: Only redeemable at DUX\, Smash Palace & The Victoria for a 150ml pour. \nCocktail Tokens: Only redeemable at Cascade\, Craft Embassy & Austin Club. \nJump on the trams for top-notch entertainment and good vibes. \n🔥 Pro Tip: \nSpend some extra time on the tram\, skip a venue\, and catch it on the next loop. Who knows\, you might even start a tram sing-along! 🎤 And if the tram is full\, don’t stress – the next one won’t be far away! \nTickets sell out fast – Don’t miss out on Christchurch’s most unique craft beer & cocktail journey! \n
URL:https://soundsgood.guide/gig/rails-ales-3-0/
CATEGORIES:Gig
ATTACH;FMTTYPE=image/jpeg:https://soundsgood.guide/wp-content/uploads/2025/03/RA_3.0_SLaunch.jpg
END:VEVENT
END:VCALENDAR