BEGIN:VCALENDAR
VERSION:2.0
PRODID:-//SoundsGood - ECPv4.9.4//NONSGML v1.0//EN
CALSCALE:GREGORIAN
METHOD:PUBLISH
X-WR-CALNAME:SoundsGood
X-ORIGINAL-URL:https://soundsgood.guide
X-WR-CALDESC:Events for SoundsGood
BEGIN:VTIMEZONE
TZID:"Pacific/Auckland"
BEGIN:STANDARD
TZOFFSETFROM:+1300
TZOFFSETTO:+1200
TZNAME:NZST
DTSTART:20240406T140000
END:STANDARD
BEGIN:DAYLIGHT
TZOFFSETFROM:+1200
TZOFFSETTO:+1300
TZNAME:NZDT
DTSTART:20240928T140000
END:DAYLIGHT
END:VTIMEZONE
BEGIN:VEVENT
DTSTART;TZID="Pacific/Auckland":20240413T200000
DTEND;TZID="Pacific/Auckland":20240414T010000
DTSTAMP:20260421T093410
CREATED:20240402T005304Z
LAST-MODIFIED:20240402T005304Z
UID:21960-1713038400-1713056400@soundsgood.guide
SUMMARY:Retrovision
DESCRIPTION:\n\n\n\n\nSouthern Selects makes their return to the courtyard April the 13th for RETROVISION. Bringing with them the same energy and unmistakable vibe. With the addition of some fresh faces and the return of familiar ones alike this evening will not be one to sleep on.  \n  \nSELECTAZ \n  \nHOSTESS  \nCIGNAL  \nJOUSEY  \nSHLI B2B MJ  \nDUFFY B2B MIDNIGHT DUBS  \n  \nWe promote communities that look out for one another. With that being said if you see anything out of line or unusual please say something to one of the lovely bar staff and or security team. Be aware of who you are sharing the dancefloor with and look out for one another!  \n  \nSee you all inna dance.  \n  \nAroha Nui.  \n  \nRetrovision \nSaturday 13th of April \n8pm-1am \nFlux \n\n\n\nTerms & Conditions\n\n\n\n\n\n\n\n\n\n
URL:https://soundsgood.guide/gig/retrovision/
LOCATION:FLUX\, 270 St Asaph Street\, Christchurch\, New Zealand
CATEGORIES:DJ Night
ATTACH;FMTTYPE=image/png:https://soundsgood.guide/wp-content/uploads/2024/04/Retrovision.png
END:VEVENT
END:VCALENDAR