BEGIN:VCALENDAR
VERSION:2.0
PRODID:-//SoundsGood - ECPv4.9.4//NONSGML v1.0//EN
CALSCALE:GREGORIAN
METHOD:PUBLISH
X-WR-CALNAME:SoundsGood
X-ORIGINAL-URL:https://soundsgood.guide
X-WR-CALDESC:Events for SoundsGood
BEGIN:VTIMEZONE
TZID:"Pacific/Auckland"
BEGIN:STANDARD
TZOFFSETFROM:+1300
TZOFFSETTO:+1200
TZNAME:NZST
DTSTART:20250405T140000
END:STANDARD
BEGIN:DAYLIGHT
TZOFFSETFROM:+1200
TZOFFSETTO:+1300
TZNAME:NZDT
DTSTART:20250927T140000
END:DAYLIGHT
END:VTIMEZONE
BEGIN:VEVENT
DTSTART;TZID="Pacific/Auckland":20250124T203000
DTEND;TZID="Pacific/Auckland":20250124T233000
DTSTAMP:20260421T093130
CREATED:20250112T215845Z
LAST-MODIFIED:20250112T215845Z
UID:24399-1737750600-1737761400@soundsgood.guide
SUMMARY:Reuben Ishrahm | Ridin' High Release Show
DESCRIPTION:After a long stint playing in several well-known Otautahi bands\, Reuben Ishrahm is releasing his debut solo single Ridin’ High on January 24th. \nIshrahm’s sound combines influence from his time playing indie\, rock\, country and folk – with Rawlings-esque dissonant guitars\, and powerful rhythm section – cradling the bittersweet\, heart-on-his sleeve lyrical content that Ishrahm is known for. Alongside the single\, Ishrahm will be performing a full catalog of yet-to-be released songs for the first time with his full band. \nIn the weeks following this show\, Ishrahm is moving his life to Naarm\, Melbourne\, so this will be the only show for sometime here in Otautahi. Hello becomes goodbye. \nSupported by the magical Holly Kimber\, and her band. \n
URL:https://soundsgood.guide/gig/reuben-ishrahm-ridin-high-release-show/
LOCATION:Space Academy\, 371 St Asaph St\, Christchurch\, 8011\, New Zealand
CATEGORIES:Gig,Release
ATTACH;FMTTYPE=image/png:https://soundsgood.guide/wp-content/uploads/2025/01/94155-323837.png
END:VEVENT
END:VCALENDAR