BEGIN:VCALENDAR
VERSION:2.0
PRODID:-//SoundsGood - ECPv4.9.4//NONSGML v1.0//EN
CALSCALE:GREGORIAN
METHOD:PUBLISH
X-WR-CALNAME:SoundsGood
X-ORIGINAL-URL:https://soundsgood.guide
X-WR-CALDESC:Events for SoundsGood
BEGIN:VTIMEZONE
TZID:"Pacific/Auckland"
BEGIN:STANDARD
TZOFFSETFROM:+1300
TZOFFSETTO:+1200
TZNAME:NZST
DTSTART:20250405T140000
END:STANDARD
BEGIN:DAYLIGHT
TZOFFSETFROM:+1200
TZOFFSETTO:+1300
TZNAME:NZDT
DTSTART:20250927T140000
END:DAYLIGHT
END:VTIMEZONE
BEGIN:VEVENT
DTSTART;TZID="Pacific/Auckland":20250205T190000
DTEND;TZID="Pacific/Auckland":20250206T010000
DTSTAMP:20260421T114420
CREATED:20250113T011140Z
LAST-MODIFIED:20250113T011140Z
UID:24496-1738782000-1738803600@soundsgood.guide
SUMMARY:Roots Fire Sound SOLO BANTON
DESCRIPTION:\nOp iTAN & Captain Jack \nHeavy Liftah \nDj Livity \nMessenjah \nJoat \n\n\n🚨🚨🚨 WARNING WARNING WARNING 🚨🚨🚨 \nRoots fire sound in collaboration with Nice up Nz \npresents \nThe orrriginal dancehall champion \nSOLO BANTON \n@ the loons \nWith support from \nOp iTAN & Captain Jack \nHeavy Liftah \nDj Livity \nMessenjah \nJoat \n7pm – late \nTickets from cosmic ticketing coming soon. \nR18 \n\n
URL:https://soundsgood.guide/gig/roots-fire-sound-solo-banton/
LOCATION:LOONS\, 16 CANTERBURY ST\, CHRUSTCHURCH\, LYTTELTON\, 8082\, New Zealand
CATEGORIES:DJ Night
ATTACH;FMTTYPE=image/jpeg:https://soundsgood.guide/wp-content/uploads/2025/01/6121621cf4088ffb2dd85a7ddfa6aa8e.jpg
END:VEVENT
END:VCALENDAR