BEGIN:VCALENDAR
VERSION:2.0
PRODID:-//SoundsGood - ECPv4.9.4//NONSGML v1.0//EN
CALSCALE:GREGORIAN
METHOD:PUBLISH
X-WR-CALNAME:SoundsGood
X-ORIGINAL-URL:https://soundsgood.guide
X-WR-CALDESC:Events for SoundsGood
BEGIN:VTIMEZONE
TZID:"Pacific/Auckland"
BEGIN:STANDARD
TZOFFSETFROM:+1300
TZOFFSETTO:+1200
TZNAME:NZST
DTSTART:20240406T140000
END:STANDARD
BEGIN:DAYLIGHT
TZOFFSETFROM:+1200
TZOFFSETTO:+1300
TZNAME:NZDT
DTSTART:20240928T140000
END:DAYLIGHT
END:VTIMEZONE
BEGIN:VEVENT
DTSTART;TZID="Pacific/Auckland":20241213T220000
DTEND;TZID="Pacific/Auckland":20241214T020000
DTSTAMP:20260421T113311
CREATED:20241104T224004Z
LAST-MODIFIED:20241104T224004Z
UID:24041-1734127200-1734141600@soundsgood.guide
SUMMARY:SACRED GEOMETRY: A STATE OF TRANCE
DESCRIPTION:We invite you to Sacred Geometry\, a State of Trance. The final of our series of Trance parties for 2024 will be a gathering of trance lovers and masters of trance on the decks.\nGalaxy\, the home of trance in partnership with WAXFORMATSNZ bring you Sacred Geometry. Sacred geometry refers to both basic and ornate shapes common throughout nature and spiritual symbolism. We know that the sound waves created by uplifting trance beats form sacred geometric patterns. The trance is uplifting. Come and be uplifted at this gathering of like minded starseeds and open a portal into space and time.\nMagic moments happen on our dance floor and that is testament to the music\, the culture of our space and you.\nBook the date.Line up to be announced.$15 tickets $20 on the door.\n——————————————->WAXFORMATSNZ : A DJ Collective that has kept the fire burning for trance in Christchurch for decades. Collectors of vinyl and lovers of the dance. https://www.facebook.com/waxformatsnz\n————————————->Galaxy Bar. A diner\, arcade\, creative space on the eastern frame 206 Barbadoes St bringing Christchurch alternative events since 2005. A gathering place for the zaney\, creative\, kind and those with a passion for life. Galaxy curates parties with local promoters\, djs and sound crews to offer a unique inclusive party vibe as an alternative in Christchurch’s night life.\n—————————->>Outdoor chill zoneMidnight bbq on the housePool\, retro games on token deals for the night\nPlease share this event to your friends and those you want to share the dance floor with. We are on the ongoing mission to bring people to trance and to a yummy dance culture that inspires life.\nROARNice Humans Only\n
URL:https://soundsgood.guide/gig/sacred-geometry-a-state-of-trance/
LOCATION:Galaxy Bar\, 206 Barbadoes Street\, New Zealand
CATEGORIES:DJ Night
ATTACH;FMTTYPE=image/jpeg:https://soundsgood.guide/wp-content/uploads/2024/11/461873378_572440211782043_411403165324399972_n.jpg
END:VEVENT
END:VCALENDAR