BEGIN:VCALENDAR
VERSION:2.0
PRODID:-//SoundsGood - ECPv4.9.4//NONSGML v1.0//EN
CALSCALE:GREGORIAN
METHOD:PUBLISH
X-WR-CALNAME:SoundsGood
X-ORIGINAL-URL:https://soundsgood.guide
X-WR-CALDESC:Events for SoundsGood
BEGIN:VTIMEZONE
TZID:"Pacific/Auckland"
BEGIN:STANDARD
TZOFFSETFROM:+1300
TZOFFSETTO:+1200
TZNAME:NZST
DTSTART:20250405T140000
END:STANDARD
BEGIN:DAYLIGHT
TZOFFSETFROM:+1200
TZOFFSETTO:+1300
TZNAME:NZDT
DTSTART:20250927T140000
END:DAYLIGHT
END:VTIMEZONE
BEGIN:VEVENT
DTSTART;TZID="Pacific/Auckland":20250612T203000
DTEND;TZID="Pacific/Auckland":20250612T233000
DTSTAMP:20260420T061455
CREATED:20250519T020605Z
LAST-MODIFIED:20250519T020605Z
UID:25588-1749760200-1749771000@soundsgood.guide
SUMMARY:Saint Peter's Thursday
DESCRIPTION:GET REAL. Of course\, darkroom is the place to be. \nThe Otautahi legends ‘Saint Peter’s Thursday’ are here to cool your blues\, raise your heart rate and then leave you reeling for the killer weekend ahead. \nJoining them are up and coming folk metal 4-piece ‘Steampunk Fish’ and blues rock 4-piece ‘Phatsak’ \nDoors: 8pm\nPhatsak: 8:30pm\nSteampunk Fish: 9:30pm\nSaint Peter’s Thursday: 10:30pm \n
URL:https://soundsgood.guide/gig/saint-peters-thursday/
LOCATION:darkroom\, 336 St. Asaph St\, Christchurch\, 8011\, New Zealand
CATEGORIES:Concert
ATTACH;FMTTYPE=image/jpeg:https://soundsgood.guide/wp-content/uploads/2025/05/96387-218773.jpg
END:VEVENT
END:VCALENDAR