BEGIN:VCALENDAR
VERSION:2.0
PRODID:-//SoundsGood - ECPv4.9.4//NONSGML v1.0//EN
CALSCALE:GREGORIAN
METHOD:PUBLISH
X-WR-CALNAME:SoundsGood
X-ORIGINAL-URL:https://soundsgood.guide
X-WR-CALDESC:Events for SoundsGood
BEGIN:VTIMEZONE
TZID:"Pacific/Auckland"
BEGIN:STANDARD
TZOFFSETFROM:+1300
TZOFFSETTO:+1200
TZNAME:NZST
DTSTART:20240406T140000
END:STANDARD
BEGIN:DAYLIGHT
TZOFFSETFROM:+1200
TZOFFSETTO:+1300
TZNAME:NZDT
DTSTART:20240928T140000
END:DAYLIGHT
END:VTIMEZONE
BEGIN:VEVENT
DTSTART;TZID="Pacific/Auckland":20241114T200000
DTEND;TZID="Pacific/Auckland":20241114T233000
DTSTAMP:20260422T033509
CREATED:20240908T220613Z
LAST-MODIFIED:20240908T220613Z
UID:23563-1731614400-1731627000@soundsgood.guide
SUMMARY:Salmonella Dub Soundsystem
DESCRIPTION:Kia ora! \nThe Salmonella Dub SoundSystem featuring band originator Andrew aka Dj Rudeboy on the mix ft. Mighty Asterix & Whirimako Black LIVE with the amazing Sal Dub horn section bring the band’s new DOUBLE Digi album FOR ALL THINGS ALIVE in a space weaving 2hr dancefloor journey through Salmonella Dubs basslands with special guests Soulware. \nPrepare for an audio visual mashup of the bands full catalogue with nu album tracks from SOUL LOVE TRIPPA – RETURN TO OUR KOWAI & FOR ALL THINGS ALIVE + remixes and versions from The Nomad\, Dj Mu – Fat Freddy’s Drop\, Dub Fx\, Dj Digital\, Dreadzone\, Adrian Sherwood and more. \nCome join us for an epic night with Salmonella Dub SoundSystem featuring Whirimako Black\, Mighty Asterix\, and Dub horns at The Loons Lyttelton with special guests Soulware on Thursday November 14th – 2024 from 8pm – Midnight. \n
URL:https://soundsgood.guide/gig/salmonella-dub-soundsystem/
LOCATION:LOONS\, 16 CANTERBURY ST\, CHRUSTCHURCH\, LYTTELTON\, 8082\, New Zealand
CATEGORIES:Gig,Tour
ATTACH;FMTTYPE=image/png:https://soundsgood.guide/wp-content/uploads/2024/09/92143-852625.png
END:VEVENT
END:VCALENDAR