BEGIN:VCALENDAR
VERSION:2.0
PRODID:-//SoundsGood - ECPv4.9.4//NONSGML v1.0//EN
CALSCALE:GREGORIAN
METHOD:PUBLISH
X-WR-CALNAME:SoundsGood
X-ORIGINAL-URL:https://soundsgood.guide
X-WR-CALDESC:Events for SoundsGood
BEGIN:VTIMEZONE
TZID:"Pacific/Auckland"
BEGIN:STANDARD
TZOFFSETFROM:+1300
TZOFFSETTO:+1200
TZNAME:NZST
DTSTART:20240406T140000
END:STANDARD
BEGIN:DAYLIGHT
TZOFFSETFROM:+1200
TZOFFSETTO:+1300
TZNAME:NZDT
DTSTART:20240928T140000
END:DAYLIGHT
END:VTIMEZONE
BEGIN:VEVENT
DTSTART;TZID="Pacific/Auckland":20240713T200000
DTEND;TZID="Pacific/Auckland":20240713T230000
DTSTAMP:20260422T190158
CREATED:20240624T030958Z
LAST-MODIFIED:20240624T030958Z
UID:22997-1720900800-1720911600@soundsgood.guide
SUMMARY:Saurian - Park Bench Single Release
DESCRIPTION:With the announcement of Dunedin-based four-piece hard rock band\, Saurian’s upcoming single\, “Park Bench” it would only be right for them to embark on a tour promoting it! \nYou can catch Saurian at Space Academy in Christchurch on July 13 with Ellie Oak and Zephyr! \nTickets are just $10 (+fees) at Eventfinda and $15 on the door (if there are any left) \n
URL:https://soundsgood.guide/gig/saurian-park-bench-single-release/
LOCATION:Space Academy\, 371 St Asaph St\, Christchurch\, 8011\, New Zealand
CATEGORIES:Gig,Release
ATTACH;FMTTYPE=image/png:https://soundsgood.guide/wp-content/uploads/2024/06/Screenshot-2024-06-24-150939.png
END:VEVENT
END:VCALENDAR