BEGIN:VCALENDAR
VERSION:2.0
PRODID:-//SoundsGood - ECPv4.9.4//NONSGML v1.0//EN
CALSCALE:GREGORIAN
METHOD:PUBLISH
X-WR-CALNAME:SoundsGood
X-ORIGINAL-URL:https://soundsgood.guide
X-WR-CALDESC:Events for SoundsGood
BEGIN:VTIMEZONE
TZID:"Pacific/Auckland"
BEGIN:STANDARD
TZOFFSETFROM:+1300
TZOFFSETTO:+1200
TZNAME:NZST
DTSTART:20240406T140000
END:STANDARD
BEGIN:DAYLIGHT
TZOFFSETFROM:+1200
TZOFFSETTO:+1300
TZNAME:NZDT
DTSTART:20240928T140000
END:DAYLIGHT
END:VTIMEZONE
BEGIN:VEVENT
DTSTART;TZID="Pacific/Auckland":20240713T203000
DTEND;TZID="Pacific/Auckland":20240713T233000
DTSTAMP:20260422T104521
CREATED:20240515T221235Z
LAST-MODIFIED:20240515T221235Z
UID:22526-1720902600-1720913400@soundsgood.guide
SUMMARY:SAWNOFF - Conflicted Fighting Violent Impulse 1 Year Anniversary Tour
DESCRIPTION:SAWNOFF\nConflicted Fighting Violent Impulse 1 Year Anniversary Tour – Christchurch \nGalaxy Arcade (Formally Arcadia) – Saturday 13th July\nDoors at 8pm\nR18 \nSupported by:\nLucid Shift\nExaminus\nImpairment \nTo celebrate the 1 year anniversary of the EP ‘Conflicted Fighting Violent Impulse’ Nelsons own SAWNOFF are hitting the road to play all across New Zealand on their very first headlining tour. \n‘Conflicted Fighting Violent Impulse’ Redux out Friday 28th June \n$15 Tickets Online\n$20 Door Sales \n
URL:https://soundsgood.guide/gig/sawnoff-conflicted-fighting-violent-impulse-1-year-anniversary-tour/
LOCATION:Galaxy Bar\, 206 Barbadoes Street\, New Zealand
CATEGORIES:Gig,Tour
ATTACH;FMTTYPE=image/png:https://soundsgood.guide/wp-content/uploads/2024/05/90139-973874.png
END:VEVENT
END:VCALENDAR