BEGIN:VCALENDAR
VERSION:2.0
PRODID:-//SoundsGood - ECPv4.9.4//NONSGML v1.0//EN
CALSCALE:GREGORIAN
METHOD:PUBLISH
X-WR-CALNAME:SoundsGood
X-ORIGINAL-URL:https://soundsgood.guide
X-WR-CALDESC:Events for SoundsGood
BEGIN:VTIMEZONE
TZID:"Pacific/Auckland"
BEGIN:STANDARD
TZOFFSETFROM:+1300
TZOFFSETTO:+1200
TZNAME:NZST
DTSTART:20240406T140000
END:STANDARD
BEGIN:DAYLIGHT
TZOFFSETFROM:+1200
TZOFFSETTO:+1300
TZNAME:NZDT
DTSTART:20240928T140000
END:DAYLIGHT
END:VTIMEZONE
BEGIN:VEVENT
DTSTART;TZID="Pacific/Auckland":20240831T210000
DTEND;TZID="Pacific/Auckland":20240831T233000
DTSTAMP:20260422T080743
CREATED:20240811T213301Z
LAST-MODIFIED:20240811T213301Z
UID:23351-1725138000-1725147000@soundsgood.guide
SUMMARY:Seafog With Coal
DESCRIPTION:Dunedin Band Seafog coming up to Christchurch to play with Coal. \nSeafog are performing songs from their new album this August 17th at Pearl Diver in Ōtepoti and 31st at Space Academy in Ōtautahi. Having received some exceptional press\, the band is over the moon with the work that Thomas Bell has done with the production and recording\, the band thought time to deliver. \nSeafog\, a four-piece band hailing from Koputai\, Ōtepoti \, has been active since 2006. Over the years\, the lineup has seen changes\, often performing as a trio with Martin Sadler\, Nigel Waters\, and Robin Sharma. They’ve released three albums under Austrian record label Zelle: Raise Your Skinny Fist\, Dig it on Up\, and Animal Lovers. However\, their latest release\, Slow Death\, represents a significant evolution with the addition of bass player Andrew Barsby. This marks a new chapter for the band as they continue to leave their mark on the music scene in Port Chalmers and beyond. \nLooking ahead\, there will be special guests to be confirmed closer to the event to join in the celebrations. \n
URL:https://soundsgood.guide/gig/seafog-with-coal/
LOCATION:Space Academy\, 371 St Asaph St\, Christchurch\, 8011\, New Zealand
CATEGORIES:Gig
ATTACH;FMTTYPE=image/jpeg:https://soundsgood.guide/wp-content/uploads/2024/08/91608-438202.jpg
END:VEVENT
END:VCALENDAR