BEGIN:VCALENDAR
VERSION:2.0
PRODID:-//SoundsGood - ECPv4.9.4//NONSGML v1.0//EN
CALSCALE:GREGORIAN
METHOD:PUBLISH
X-WR-CALNAME:SoundsGood
X-ORIGINAL-URL:https://soundsgood.guide
X-WR-CALDESC:Events for SoundsGood
BEGIN:VTIMEZONE
TZID:"Pacific/Auckland"
BEGIN:STANDARD
TZOFFSETFROM:+1300
TZOFFSETTO:+1200
TZNAME:NZST
DTSTART:20240406T140000
END:STANDARD
BEGIN:DAYLIGHT
TZOFFSETFROM:+1200
TZOFFSETTO:+1300
TZNAME:NZDT
DTSTART:20240928T140000
END:DAYLIGHT
END:VTIMEZONE
BEGIN:VEVENT
DTSTART;TZID="Pacific/Auckland":20240831T203000
DTEND;TZID="Pacific/Auckland":20240831T233000
DTSTAMP:20260420T093820
CREATED:20240825T201956Z
LAST-MODIFIED:20240825T201956Z
UID:23424-1725136200-1725147000@soundsgood.guide
SUMMARY:Seraphim With Monotones
DESCRIPTION:From the shadowed recesses of the Christchurch underground\, where dreams and echoes of the arcane converge\, Seraphim have emerged as prophets of a new dawn. On the 31st of August\, at the hallowed ground of the Wunderbar\, join them at 8:30pm for a transcendental evening where tender harmonies\, primal rhythms\, celestial melodies and face melting fuzz combine to herald a vision of the end times. \nOpening the night\, local favourites MONOTONES will electrify the crowd with their gritty indie and garage rock sounds. Known for their unbridled passion and catchy\, danceable riffs\, MONOTONES promises an energetic start to an unforgettable evening. \nJoin these wonderful bands in divine darkness\, where angelic whispers entwine in sublime embrace. \n31st August – Wunderbar\, Lyttelton – Doors 8:30pm\nPre-sale tickets $8 + booking fee\nDoor sale tickets $15 \nMONOTONES at 9pm\nSeraphim at 10:30pm \n18+ R.O.A.R 🙂 \n
URL:https://soundsgood.guide/gig/seraphim-with-monotones/
LOCATION:Wunderbar\, 14 Canterbury Street\, Lyttelton\, 8082\, New Zealand
CATEGORIES:Concert,Gig,Music
ATTACH;FMTTYPE=image/jpeg:https://soundsgood.guide/wp-content/uploads/2024/08/Poster-no-QR.jpg
END:VEVENT
END:VCALENDAR