BEGIN:VCALENDAR
VERSION:2.0
PRODID:-//SoundsGood - ECPv4.9.4//NONSGML v1.0//EN
CALSCALE:GREGORIAN
METHOD:PUBLISH
X-WR-CALNAME:SoundsGood
X-ORIGINAL-URL:https://soundsgood.guide
X-WR-CALDESC:Events for SoundsGood
BEGIN:VTIMEZONE
TZID:"Pacific/Auckland"
BEGIN:STANDARD
TZOFFSETFROM:+1300
TZOFFSETTO:+1200
TZNAME:NZST
DTSTART:20250405T140000
END:STANDARD
BEGIN:DAYLIGHT
TZOFFSETFROM:+1200
TZOFFSETTO:+1300
TZNAME:NZDT
DTSTART:20250927T140000
END:DAYLIGHT
END:VTIMEZONE
BEGIN:VEVENT
DTSTART;TZID="Pacific/Auckland":20250410T200000
DTEND;TZID="Pacific/Auckland":20250410T230000
DTSTAMP:20260424T193027
CREATED:20250317T015900Z
LAST-MODIFIED:20250317T015900Z
UID:25142-1744315200-1744326000@soundsgood.guide
SUMMARY:Shady Wade - Damaged Goods Single Release Show
DESCRIPTION:Shady Wade’s debut single Damaged Goods release party with an exclusive music video preview.\nShady Wade will begin the evening with a solo acoustic set followed by a full band set of Shady Wade songs including Damaged Goods.\nThe evening will wrap up with an exclusive viewing of the Damaged Goods single and music video due to be released at midnight that night. \n
URL:https://soundsgood.guide/gig/shady-wade-damaged-goods-single-release-show/
LOCATION:darkroom\, 336 St. Asaph St\, Christchurch\, 8011\, New Zealand
CATEGORIES:Gig
ATTACH;FMTTYPE=image/png:https://soundsgood.guide/wp-content/uploads/2025/03/95415-992233.png
END:VEVENT
END:VCALENDAR