BEGIN:VCALENDAR
VERSION:2.0
PRODID:-//SoundsGood - ECPv4.9.4//NONSGML v1.0//EN
CALSCALE:GREGORIAN
METHOD:PUBLISH
X-WR-CALNAME:SoundsGood
X-ORIGINAL-URL:https://soundsgood.guide
X-WR-CALDESC:Events for SoundsGood
BEGIN:VTIMEZONE
TZID:"Pacific/Auckland"
BEGIN:STANDARD
TZOFFSETFROM:+1300
TZOFFSETTO:+1200
TZNAME:NZST
DTSTART:20250405T140000
END:STANDARD
BEGIN:DAYLIGHT
TZOFFSETFROM:+1200
TZOFFSETTO:+1300
TZNAME:NZDT
DTSTART:20250927T140000
END:DAYLIGHT
END:VTIMEZONE
BEGIN:VEVENT
DTSTART;TZID="Pacific/Auckland":20250607T203000
DTEND;TZID="Pacific/Auckland":20250607T230000
DTSTAMP:20260421T080357
CREATED:20250505T022812Z
LAST-MODIFIED:20250505T022812Z
UID:25499-1749328200-1749337200@soundsgood.guide
SUMMARY:Single Malt
DESCRIPTION:As they near the release of their new single Making My Way\, get ready for a night of high-energy live music as Single Malt takes the stage at Darkroom\, Christchurch\, on Friday\, June 7th. Known for their skux sound and unforgettable live presence\, Single Malt will be joined by special guests King Tides and Crown for one massive night of local talent. \n? Venue: Darkroom\, 336 St Asaph Street\, Christchurch \n? Doors Open: 8:00 PM \n? Tickets: Available at the door or via UNDERTHERADAR \nCome support local music and experience three killer acts in one legendary venue. \nFollow @singlemaltband for updates and sneak peeks leading up to the show. \n
URL:https://soundsgood.guide/gig/single-malt/
LOCATION:darkroom\, 336 St. Asaph St\, Christchurch\, 8011\, New Zealand
CATEGORIES:Gig
ATTACH;FMTTYPE=image/jpeg:https://soundsgood.guide/wp-content/uploads/2025/05/96189-254163.jpg
END:VEVENT
END:VCALENDAR