BEGIN:VCALENDAR
VERSION:2.0
PRODID:-//SoundsGood - ECPv4.9.4//NONSGML v1.0//EN
CALSCALE:GREGORIAN
METHOD:PUBLISH
X-WR-CALNAME:SoundsGood
X-ORIGINAL-URL:https://soundsgood.guide
X-WR-CALDESC:Events for SoundsGood
BEGIN:VTIMEZONE
TZID:"Pacific/Auckland"
BEGIN:STANDARD
TZOFFSETFROM:+1300
TZOFFSETTO:+1200
TZNAME:NZST
DTSTART:20250405T140000
END:STANDARD
BEGIN:DAYLIGHT
TZOFFSETFROM:+1200
TZOFFSETTO:+1300
TZNAME:NZDT
DTSTART:20250927T140000
END:DAYLIGHT
END:VTIMEZONE
BEGIN:VEVENT
DTSTART;TZID="Pacific/Auckland":20250302T180000
DTEND;TZID="Pacific/Auckland":20250302T210000
DTSTAMP:20260425T233848
CREATED:20241122T010630Z
LAST-MODIFIED:20241122T010630Z
UID:24171-1740938400-1740949200@soundsgood.guide
SUMMARY:South For Winter - Of Sea and Sky - NZ Release Tour
DESCRIPTION:The final gig of South For Winter’s NZ Release tour will be held in Nick’s hometown of Christchurch! Early Bird tickets are only $20+BF\, or $30 on the door. Children under 16 are $15. Tickets available at www.littleandromeda.co.nz \nWith a blend of dreamy acoustic duets\, foot-stomping folk and bluesy murder ballads\, New Zealand-formed and Nashville-based trio South for Winter’s sound is as eclectic as their origins. The act is comprised of kiwi Nick Stone\, Coloradan Dani Cichon\, and Michigander Alex Stradal\, and together the three multi-instrumentalists and songwriters combine elements such as percussive acoustic guitar\, cello\, mandolin\, suitcase stomp\, resonator guitar\, and effortless harmonies into a genre-bending sound described by American Songwriter as impeccable”. \nThe band has landed accolades such as a Semi-Finalist in the 2023 and 2022 International Songwriting Competition\, Finalist for Best Group in the 2023 International Acoustic Awards\, Official Artist at South by Southwest Music Festival in 2023\, Official Showcase Artist at Folk Alliance International in both 2022 and 2024\, and “Most Wanted” Emerging Artist at Falcon Ridge Festival in 2018. Their latest album\, Of Sea and Sky – released May 16\, 2024 – has already reached hundreds of thousands of listeners\, raised over $20\,000 via a Kickstarter campaign\, and sold-out shows across North America\, New Zealand\, and Europe. \n
URL:https://soundsgood.guide/gig/south-for-winter-of-sea-and-sky-nz-release-tour/
LOCATION:Little Andromeda\, 131 Gloucester Street\, Christchurch\, Canterbury\, 8011\, New Zealand
CATEGORIES:Gig
ATTACH;FMTTYPE=image/png:https://soundsgood.guide/wp-content/uploads/2024/11/93482-782697.png
END:VEVENT
END:VCALENDAR