BEGIN:VCALENDAR
VERSION:2.0
PRODID:-//SoundsGood - ECPv4.9.4//NONSGML v1.0//EN
CALSCALE:GREGORIAN
METHOD:PUBLISH
X-WR-CALNAME:SoundsGood
X-ORIGINAL-URL:https://soundsgood.guide
X-WR-CALDESC:Events for SoundsGood
BEGIN:VTIMEZONE
TZID:"Pacific/Auckland"
BEGIN:STANDARD
TZOFFSETFROM:+1300
TZOFFSETTO:+1200
TZNAME:NZST
DTSTART:20240406T140000
END:STANDARD
BEGIN:DAYLIGHT
TZOFFSETFROM:+1200
TZOFFSETTO:+1300
TZNAME:NZDT
DTSTART:20240928T140000
END:DAYLIGHT
END:VTIMEZONE
BEGIN:VEVENT
DTSTART;TZID="Pacific/Auckland":20241130T130000
DTEND;TZID="Pacific/Auckland":20241130T173000
DTSTAMP:20260421T103010
CREATED:20241113T005031Z
LAST-MODIFIED:20241113T005031Z
UID:24096-1732971600-1732987800@soundsgood.guide
SUMMARY:South Natural Wine Festival
DESCRIPTION:The South Natural Wine Festival is your ONE STOP SIP SHOP in Ōtautahi\nA boutique wine festival which you can taste organic wines with no added sulphites\, poured by Winemakers from 5 regions\, 9 wineries in Aotearoa.\n30 November. 1:00- 5:30pm. Evil Genius\, Ferrymead. Christchurch.\n\n\nThe South Natural Wine Festival\, presented by Silver Wing Wines\, is back again in Ōtautahi this November. Winemakers from 5 wine regions\, Central Otago\, North Canterbury\, Marlborough\, Nelson\, Hawkes Bay are all coming together to showcase their delicious drops of organic\, natural wines made without added sulphites.\n\nThe Festival lineup: Amoise\, A Thousand Gods\, Black Estate\, Fancrest\, Greystone & Muddy Water\, Halcyon Days \, Mt Edward\, Silver Wing\, TINCAN.\n\nWhere else could you go to get wines poured by winemakers of 5 different regions all in one day? It is going to be that perfect sunny day\, sitting outside\, having a sip of natural wine\, with the Port Hills as backdrop\, facing the Avon Heathcote Estuary\, having a laugh among a group of your wine-loving friends! There is no festival without music. This year\, we have Carmel Courtney and Simon Gregory in their 4-piece Jazz band\, followed by DJ Silionbeat on the decks!\n
URL:https://soundsgood.guide/gig/south-natural-wine-festival-2/
LOCATION:Evil Genius\, 1091 Ferry Road\, Ferrymead\, Christchurch\, 8023\, New Zealand
CATEGORIES:Festival
ATTACH;FMTTYPE=image/jpeg:https://soundsgood.guide/wp-content/uploads/2024/11/1729470234233000_1550744159-scaled.jpg
END:VEVENT
END:VCALENDAR