BEGIN:VCALENDAR
VERSION:2.0
PRODID:-//SoundsGood - ECPv4.9.4//NONSGML v1.0//EN
CALSCALE:GREGORIAN
METHOD:PUBLISH
X-WR-CALNAME:SoundsGood
X-ORIGINAL-URL:https://soundsgood.guide
X-WR-CALDESC:Events for SoundsGood
BEGIN:VTIMEZONE
TZID:"Pacific/Auckland"
BEGIN:STANDARD
TZOFFSETFROM:+1300
TZOFFSETTO:+1200
TZNAME:NZST
DTSTART:20240406T140000
END:STANDARD
BEGIN:DAYLIGHT
TZOFFSETFROM:+1200
TZOFFSETTO:+1300
TZNAME:NZDT
DTSTART:20240928T140000
END:DAYLIGHT
END:VTIMEZONE
BEGIN:VEVENT
DTSTART;TZID="Pacific/Auckland":20241012T220000
DTEND;TZID="Pacific/Auckland":20241013T020000
DTSTAMP:20260421T102301
CREATED:20240922T202209Z
LAST-MODIFIED:20240922T202209Z
UID:23702-1728770400-1728784800@soundsgood.guide
SUMMARY:Speaker Freaker Vol 8 - House Night
DESCRIPTION:Speaker Freaker (Vol 8) are back at our residency for a grooving House night @ Galaxy Bar 206 Barbados!!! Also we are really stoked about sharing this platform with the LGBTQ+ community for an exciting partnership!! \nGalaxy Bar 12th Oct 24\n10pm Doors open. \nLine Up & Set Times \nMJDJ 10:00 – 11:00\nMartin 11:00 – 12:00\nSolo 12:00 – 01:00\nSpeedie Lokzz 01:00 – 02:00 \n$10 Under the Radar\n$15 entry on the door. \nWatch out for updates on the Galaxy Bar Website / Facebook and Speaker Freaker\nFacebook Event Page / Instagram page. \nFun event links below: \nhttps://facebook.com/events/s/speaker-freaker-vol-8-house-ni/495709119922109/ \nFor more information about Speaker Freaker\, our team\, our bios\, our mixes through linktree and Soundcloud check this out: \nhttps://www.instagram.com/speakerfreakernz?igsh=c2wzMmU5bDNoeWV4 \n
URL:https://soundsgood.guide/gig/speaker-freaker-vol-8-house-night/
LOCATION:Galaxy Bar\, 206 Barbadoes Street\, New Zealand
CATEGORIES:DJ Night
ATTACH;FMTTYPE=image/jpeg:https://soundsgood.guide/wp-content/uploads/2024/09/92408-329702.jpeg
END:VEVENT
END:VCALENDAR