BEGIN:VCALENDAR
VERSION:2.0
PRODID:-//SoundsGood - ECPv4.9.4//NONSGML v1.0//EN
CALSCALE:GREGORIAN
METHOD:PUBLISH
X-WR-CALNAME:SoundsGood
X-ORIGINAL-URL:https://soundsgood.guide
X-WR-CALDESC:Events for SoundsGood
BEGIN:VTIMEZONE
TZID:"Pacific/Auckland"
BEGIN:STANDARD
TZOFFSETFROM:+1300
TZOFFSETTO:+1200
TZNAME:NZST
DTSTART:20240406T140000
END:STANDARD
BEGIN:DAYLIGHT
TZOFFSETFROM:+1200
TZOFFSETTO:+1300
TZNAME:NZDT
DTSTART:20240928T140000
END:DAYLIGHT
END:VTIMEZONE
BEGIN:VEVENT
DTSTART;TZID="Pacific/Auckland":20241129T203000
DTEND;TZID="Pacific/Auckland":20241129T233000
DTSTAMP:20260421T222417
CREATED:20241104T220356Z
LAST-MODIFIED:20241104T220432Z
UID:24004-1732912200-1732923000@soundsgood.guide
SUMMARY:Steampunk Fish ‘Fall Of An Idol’ Single Release
DESCRIPTION:Built to break your neck whilst your shedding a tear\, Steampunk Fish are debuting the stage with their upcoming single ‘Fall of an Idol’. \nFilling the ‘darkroom’ with an electric energy\, they’re joined by the incredible Lionized and Mannequin Hand. If you don’t want fomo… get your tickets now! \n
URL:https://soundsgood.guide/gig/steampunk-fish-fall-of-an-idol-single-release/
LOCATION:darkroom\, 336 St. Asaph St\, Christchurch\, 8011\, New Zealand
CATEGORIES:Gig,Release
ATTACH;FMTTYPE=image/png:https://soundsgood.guide/wp-content/uploads/2024/11/93017-723498.png
END:VEVENT
END:VCALENDAR