BEGIN:VCALENDAR
VERSION:2.0
PRODID:-//SoundsGood - ECPv4.9.4//NONSGML v1.0//EN
CALSCALE:GREGORIAN
METHOD:PUBLISH
X-WR-CALNAME:SoundsGood
X-ORIGINAL-URL:https://soundsgood.guide
X-WR-CALDESC:Events for SoundsGood
BEGIN:VTIMEZONE
TZID:"Pacific/Auckland"
BEGIN:STANDARD
TZOFFSETFROM:+1300
TZOFFSETTO:+1200
TZNAME:NZST
DTSTART:20240406T140000
END:STANDARD
BEGIN:DAYLIGHT
TZOFFSETFROM:+1200
TZOFFSETTO:+1300
TZNAME:NZDT
DTSTART:20240928T140000
END:DAYLIGHT
END:VTIMEZONE
BEGIN:VEVENT
DTSTART;TZID="Pacific/Auckland":20240919T080000
DTEND;TZID="Pacific/Auckland":20240919T170000
DTSTAMP:20260421T091842
CREATED:20240818T205916Z
LAST-MODIFIED:20240818T205916Z
UID:23411-1726732800-1726765200@soundsgood.guide
SUMMARY:Steezy's Touch Headin' South\, Christchurch
DESCRIPTION:Nelson Originating Band\, Steezy’s Touch hit the road for their Debut Headline shows this September! \nTheir Headin’ South Mini Tour consists of two stops in Otautahi\, Christchurch and Otepoti\, Dunedin. \nThe Christchurch show will take place in ‘Darkroom’ on September 19th with support from local bands ‘By Tomorrow’ & ‘Single Malt’. \nThis is Steezy’s Touch’s second ever appearance in Otautahi after their first being their opening slot for Salmonella Dub + Tiki Taane on their Return to Our Kowhai Tour in 2022. They hope to retain the good impression from their last appearance. Tickets are set to sell out fast so BE IN QUICK! They are stoked to announce the incredible support acts the have along to join them at these shows\, ‘By Tomorrow’ & ‘Single Malt’ which have both drawn great crowds and have made a statement in the Christchurch music scene. \nFor those who don’t know\, Steezy’s Touch is an Indie-Rock Band Originally formed back in 2021 in Whakatu\, Nelson. They bring an intoxicating live performance to every show and captivate audiences with every appearance. With multiple support slots for Tiki Taane & Salmonella Dub across the south island they have also had the privilege of opening for Big Sima + Boomtown on three stops in the ‘2023 For the Culture’ Summer Tour\, as well as festival slots at the likes of Marlboroughs 2022 Summer Sounds Music Festival. \n
URL:https://soundsgood.guide/gig/steezys-touch-headin-south-christchurch/
LOCATION:darkroom\, 336 St. Asaph St\, Christchurch\, 8011\, New Zealand
CATEGORIES:Gig,Tour
ATTACH;FMTTYPE=image/jpeg:https://soundsgood.guide/wp-content/uploads/2024/08/91710-853653.jpg
END:VEVENT
END:VCALENDAR