BEGIN:VCALENDAR
VERSION:2.0
PRODID:-//SoundsGood - ECPv4.9.4//NONSGML v1.0//EN
CALSCALE:GREGORIAN
METHOD:PUBLISH
X-WR-CALNAME:SoundsGood
X-ORIGINAL-URL:https://soundsgood.guide
X-WR-CALDESC:Events for SoundsGood
BEGIN:VTIMEZONE
TZID:"Pacific/Auckland"
BEGIN:STANDARD
TZOFFSETFROM:+1300
TZOFFSETTO:+1200
TZNAME:NZST
DTSTART:20240406T140000
END:STANDARD
BEGIN:DAYLIGHT
TZOFFSETFROM:+1200
TZOFFSETTO:+1300
TZNAME:NZDT
DTSTART:20240928T140000
END:DAYLIGHT
END:VTIMEZONE
BEGIN:VEVENT
DTSTART;TZID="Pacific/Auckland":20241019T200000
DTEND;TZID="Pacific/Auckland":20241019T233000
DTSTAMP:20260422T141945
CREATED:20241013T193934Z
LAST-MODIFIED:20241013T193934Z
UID:23864-1729368000-1729380600@soundsgood.guide
SUMMARY:Stonechild - The Worst Tour In Aotearoa - Otautahi Show
DESCRIPTION:Stonechild (Dom Anderson\, Noah Steffens\, Rufus Bax) are The Worst Grunge band in Ōtautahi who\, since 2022\, have been fucking shit up with their high energy shows and filthy riffs.\nThey’re hitting the road in October to bring their debut album (and some new unreleased songs) to the rest of Aotearoa.\n19th October – Ōtautahi (Darkroom)\n25th October – Kirikiriroa (Dougfest 2)\n2nd November – Ōtautahi (Secret Show)\n9th November – Ōtepoti (Inch Bar) \nJoining them for their Ōtautahi show is the dirty grunge kings of CHCH rock: Saint Peters Thursday\, Ōtautahi emo superstars: Only You and stinky riffers: Swamp Meet \n
URL:https://soundsgood.guide/gig/stonechild-the-worst-tour-in-aotearoa-otautahi-show/
LOCATION:Darkroom\, 336 St Asaph Street\, Christchurch\, Canterbury\, New Zealand
CATEGORIES:Music
ATTACH;FMTTYPE=image/png:https://soundsgood.guide/wp-content/uploads/2024/10/stonetour.png
ORGANIZER;CN="stonechild":MAILTO:stonechildnz@gmail.com
END:VEVENT
END:VCALENDAR